Workbook

Sheet Capa
C9: GOVERNO DO ESTADO DO ESPÍRITO SANTO
C10: Ricardo de Rezende Ferraço
C12: VICE-GOVERNADORIA
C15: SECRETARIA DE ECONOMIA E PLANEJAMENTO – SEP
C16: Álvaro Rogério Duboc Fajardo
C18: INSTITUTO JONES DOS SANTOS NEVES – IJSN
C20: Diretor Presidente | H20: Diretoria de Estudos e Pesquisas
C21: Antônio Ricardo F. da Rocha | H21: Pablo Medeiros Jabor
C23: Diretoria de Integração e Projetos Especiais | H23: Diretoria de Gestão Administrativa
C24: Wilton Pires Júnior | H24: Katia Cesconeto de Paula
C26: Coordenação Geral
C27: Edna Morais Tresinari
C29: Elaboração
C30: Adriano do Carmo Santos

Sheet Sumário
B1: Sumário
B5: Planilha1 | C5: =Planilha1!B2 -> Tabela 1 - Variação em volume do PIB a preços de mercado
B6: Planilha2 | C6: =Planilha2!B1 -> Tabela 2 - Variação (%) em relação ao trimestre imediatamente anterior (com ajuste para sazonalidade)
B7: Planilha3 | C7: =Planilha3!B1 -> Tabela 3 - Variação (%) acumulada ao longo do ano
B8: Planilha4 | C8: =Planilha4!B1 -> Tabela 4 - Variação (%) em relação ao mesmo trimestre do ano anterior
B9: Planilha5 | C9: =Planilha5!B1 -> Tabela 5 - Variação (%) acumulada em quatro trimestres em relação a igual período anterior
B10: Planilha6 | C10: =Planilha6!B2 -> Tabela 6 - Taxas de Variação - Brasil e Espírito Santo (II Trimestre de 2026)
B11: Planilha7 | C11: =Planilha7!B2 -> Tabela 7 - PIB Nominal Trimestral do Espírito Santo (R$ bilhões)
B12: Planilha8 | C12: =Planilha8!B2 -> Gráfico 1 - Variação (%) em relação ao trimestre anterior com ajuste sazonal
B13: Planilha9 | C13: =Planilha9!B2 -> Gráfico 2 - Variação (%) setorial em relação ao trimestre imediatamente anterior (com ajuste sazonal) - 2026.II
B14: Planilha10 | C14: =Planilha10!B2 -> Gráfico 3 - Variação (%) acumulada no ano em relação ao mesmo período do ano anterior
B15: Planilha11 | C15: =Planilha11!B2 -> Gráfico 4 - Variação (%) setorial acumulada no ano em relação ao mesmo período do ano anterior - 2026.II
B16: Planilha12 | C16: =Planilha12!B2 -> Gráfico 5 - Variação (%) em relação ao mesmo trimestre do ano anterior
B17: Planilha13 | C17: =Planilha13!B2 -> Gráfico 6 - Variação (%) setorial em relação ao mesmo trimestre do ano anterior - 2026.II
B18: Planilha14 | C18: =Planilha14!B2 -> Gráfico 7 - Variação (%) acumulada em quatro trimestres em relação a igual período anterior
B19: Planilha15 | C19: =Planilha15!B2 -> Gráfico 8 - Variação (%) setorial acumulada em quatro trimestres em relação a igual período anterior - 2026.II
B20: Planilha16 | C20: =Planilha16!B2 -> Gráfico 9 - PIB nominal trimestral do Espírito Santo (R$ Bilhões)
B21: Planilha17 | C21: =Planilha17!B2 -> Gráfico 10 - PIB Trimestral do Espírito Santo – Série dessazonalizada (Base 2002=100)

Sheet Planilha1
B2: Tabela 1 - Variação em volume do PIB a preços de mercado
B3: Taxas (%) | C3: 2002.I | D3: 2002.II | E3: 2002.III | F3: 2002.IV | G3: 2003.I | H3: 2003.II | I3: 2003.III | J3: 2003.IV | K3: 2004.I | L3: 2004.II | M3: 2004.III | N3: 2004.IV | O3: 2005.I | P3: 2005.II | Q3: 2005.III | R3: 2005.IV | S3: 2006.I | T3: 2006.II | U3: 2006.III | V3: 2006.IV | W3: 2007.I | X3: 2007.II | Y3: 2007.III | Z3: 2007.IV | AA3: 2008.I | AB3: 2008.II | AC3: 2008.III | AD3: 2008.IV | AE3: 2009.I | AF3: 2009.II | AG3: 2009.III | AH3: 2009.IV | AI3: 2010.I | AJ3: 2010.II | AK3: 2010.III | AL3: 2010.IV | AM3: 2011.I | AN3: 2011.II | AO3: 2011.III | AP3: 2011.IV | AQ3: 2012.I | AR3: 2012.II | AS3: 2012.III | AT3: 2012.IV | AU3: 2013.I | AV3: 2013.II | AW3: 2013.III | AX3: 2013.IV | AY3: 2014.I | AZ3: 2014.II | BA3: 2014.III | BB3: 2014.IV | BC3: 2015.I | BD3: 2015.II | BE3: 2015.III | BF3: 2015.IV | BG3: 2016.I | BH3: 2016.II | BI3: 2016.III | BJ3: 2016.IV | BK3: 2017.I | BL3: 2017.II | BM3: 2017.III | BN3: 2017.IV | BO3: 2018.I | BP3: 2018.II | BQ3: 2018.III | BR3: 2018.IV | BS3: 2019.I | BT3: 2019.II | BU3: 2019.III | BV3: 2019.IV | BW3: 2020.I | BX3: 2020.II | BY3: 2020.III | BZ3: 2020.IV | CA3: 2021.I | CB3: 2021.II | CC3: 2021.III | CD3: 2021.IV | CE3: 2022.I | CF3: 2022.II | CG3: 2022.III | CH3: 2022.IV | CI3: 2023.I | CJ3: 2023.II | CK3: 2023.III | CL3: 2023.IV | CM3: 2024.I | CN3: 2024.II | CO3: 2024.III | CP3: 2024.IV | CQ3: 2025.I | CR3: 2025.II | CS3: 2025.III | CT3: 2025.IV | CU3: 2026.I | CV3: 2026.II
BL4: 2017.II | BM4: 2017.II | BN4: 2017.II | BO4: 2017.II | BP4: 2017.II | BQ4: 2017.II
B6: Acumulado ao longo do ano / mesmo período do ano anterior | G6: 6.1616928 | H6: 3.8312051 | I6: 3.7625262 | J6: 2.9365994 | K6: 3.3364703 | L6: 4.8513368 | M6: 4.3583763 | N6: 4.2666638 | O6: 3.2548363 | P6: 3.1176 | Q6: 3.1263807 | R6: 3.5414751 | S6: 5.3621054 | T6: 7.0034532 | U6: 8.0715875 | V6: 8.5275605 | W6: 6.9062243 | X6: 6.7475045 | Y6: 6.6434807 | Z6: 7.1185821 | AA6: 12.255683 | AB6: 12.653898 | AC6: 12.699657 | AD6: 8.6232967 | AE6: -14.035444 | AF6: -13.313361 | AG6: -11.234057 | AH6: -6.9248585 | AI6: 22.793438 | AJ6: 20.067528 | AK6: 17.660602 | AL6: 15.229842 | AM6: 11.353226 | AN6: 10.648967 | AO6: 8.4430829 | AP6: 7.4069711 | AQ6: -2.4487181 | AR6: -1.5441828 | AS6: -0.93957884 | AT6: -0.72950883 | AU6: -0.78235126 | AV6: -0.4793859 | AW6: -0.40170631 | AX6: -0.09627628 | AY6: 0.2457868 | AZ6: 0.61708312 | BA6: 2.4458589 | BB6: 3.314313 | BC6: 5.050463 | BD6: 2.0304039 | BE6: 0.34118789 | BF6: -2.1000851 | BG6: -7.1684943 | BH6: -6.4083311 | BI6: -6.7206071 | BJ6: -5.2366027 | BK6: -0.79780221 | BL6: 1.2277738 | BM6: 0.86508137 | BN6: 0.47110689 | BO6: 1.5047801 | BP6: 2.840811 | BQ6: 3.0501034 | BR6: 3.0465736 | BS6: -0.40323668 | BT6: -3.8595811 | BU6: -3.5594672 | BV6: -3.7557636 | BW6: -3.588023 | BX6: -8.1770614 | BY6: -6.4940904 | BZ6: -4.431105 | CA6: 1.0357553 | CB6: 8.3977096 | CC6: 7.4515077 | CD6: 5.953693 | CE6: 2.2691289 | CF6: 2.2658792 | CG6: -0.10060718 | CH6: -1.6970014 | CI6: -0.62447963 | CJ6: 0.71841461 | CK6: 2.4463974 | CL6: 3.3922184 | CM6: 2.0475251 | CN6: 2.0062427 | CO6: 2.1736938 | CP6: 2.1573617 | CQ6: 1.5191528 | CR6: 3.2278007 | CS6: 3.2827938 | CT6: 3.9827002 | CU6: 4.9438852 | CV6: 4.7998267
B7: Últimos quatro trimestres / quatro trimestres imediatamente anteriores | J7: 2.9365994 | K7: 2.2877856 | L7: 3.4632416 | M7: 3.404578 | N7: 4.2666638 | O7: 4.238918 | P7: 3.4017552 | Q7: 3.3397582 | R7: 3.5414751 | S7: 4.0578958 | T7: 5.4988478 | U7: 7.2564755 | V7: 8.5275605 | W7: 8.8722184 | X7: 8.3452302 | Y7: 7.4179653 | Z7: 7.1185821 | AA7: 8.4242713 | AB7: 10.08966 | AC7: 11.659015 | AD7: 8.6232967 | AE7: 2.0628203 | AF7: -4.5625157 | AG7: -9.2271478 | AH7: -6.9248585 | AI7: 1.1818788 | AJ7: 9.2050378 | AK7: 14.967054 | AL7: 15.229842 | AM7: 12.63075 | AN7: 10.786197 | AO7: 8.4926745 | AP7: 7.4069711 | AQ7: 3.9762238 | AR7: 1.2826877 | AS7: 0.3310878 | AT7: -0.72950883 | AU7: -0.3188599 | AV7: -0.18956243 | AW7: -0.32404277 | AX7: -0.09627628 | AY7: 0.15084065 | AZ7: 0.45246447 | BA7: 2.0416479 | BB7: 3.314313 | BC7: 4.4623793 | BD7: 4.0133164 | BE7: 1.7129513 | BF7: -2.1000851 | BG7: -4.9580824 | BH7: -6.202303 | BI7: -7.3427852 | BJ7: -5.2366027 | BK7: -3.7039602 | BL7: -1.4569807 | BM7: 0.51952998 | BN7: 0.47110689 | BO7: 1.0311871 | BP7: 1.2873499 | BQ7: 2.1142466 | BR7: 3.0465736 | BS7: 2.5767884 | BT7: -0.37944643 | BU7: -1.9615616 | BV7: -3.7557636 | BW7: -4.5113237 | BX7: -5.8823813 | BY7: -5.9485489 | BZ7: -4.431105 | CA7: -3.3357352 | CB7: 3.7020711 | CC7: 6.00943 | CD7: 5.953693 | CE7: 6.2486097 | CF7: 2.9658359 | CG7: 0.3591011 | CH7: -1.6970014 | CI7: -2.3702546 | CJ7: -2.4259229 | CK7: 0.20616188 | CL7: 3.3922184 | CM7: 4.0510419 | CN7: 4.0462242 | CO7: 3.1664979 | CP7: 2.1573617 | CQ7: 2.0302597 | CR7: 2.7731905 | CS7: 2.9972663 | CT7: 3.9827002 | CU7: 4.790214 | CV7: 4.7686772
B8: Trimestre / mesmo trimestre do ano anterior | G8: 6.1616928 | H8: 1.6886751 | I8: 3.627791 | J8: 0.57631884 | K8: 3.3364703 | L8: 6.3052877 | M8: 3.3893825 | N8: 3.9962707 | O8: 3.2548363 | P8: 2.9895608 | Q8: 3.1438845 | R8: 4.7695458 | S8: 5.3621054 | T8: 8.5387485 | U8: 10.200325 | V8: 9.8554143 | W8: 6.9062243 | X8: 6.6033853 | Y8: 6.4421805 | Z8: 8.4796746 | AA8: 12.255683 | AB8: 13.016508 | AC8: 12.788461 | AD8: -2.8571758 | AE8: -14.035444 | AF8: -12.660267 | AG8: -7.2035965 | AH8: 7.1549117 | AI8: 22.793438 | AJ8: 17.640871 | AK8: 13.302269 | AL8: 8.6506072 | AM8: 11.353226 | AN8: 9.9945629 | AO8: 4.210287 | AP8: 4.3700123 | AQ8: -2.4487181 | AR8: -0.69329762 | AS8: 0.29225566 | AT8: -0.089740926 | AU8: -0.78235126 | AV8: -0.19942791 | AW8: -0.24633805 | AX8: 0.8259982 | AY8: 0.2457868 | AZ8: 0.95817897 | BA8: 6.0950787 | BB8: 5.90476 | BC8: 5.050463 | BD8: -0.72443269 | BE8: -2.8555074 | BF8: -9.144146 | BG8: -7.1684943 | BH8: -5.6745899 | BI8: -7.3412847 | BJ8: -0.50761423 | BK8: -0.79780221 | BL8: 3.1519784 | BM8: 0.13693798 | BN8: -0.70594885 | BO8: 1.5047801 | BP8: 4.0613816 | BQ8: 3.4748572 | BR8: 3.0358611 | BS8: -0.40323668 | BT8: -6.9396495 | BU8: -2.9541254 | BV8: -4.3515891 | BW8: -3.588023 | BX8: -12.553749 | BY8: -3.1311437 | BZ8: 1.8826042 | CA8: 1.0357553 | CB8: 16.138883 | CC8: 5.6592759 | CD8: 1.7465669 | CE8: 2.2691289 | CF8: 2.2629065 | CG8: -4.6992201 | CH8: -6.4324415 | CI8: -0.62447963 | CJ8: 1.9469265 | CK8: 6.0496653 | CL8: 6.3877003 | CM8: 2.0475251 | CN8: 1.969429 | CO8: 2.5053169 | CP8: 2.107553 | CQ8: 1.5191528 | CR8: 4.7526533 | CS8: 3.391173 | CT8: 6.1186162 | CU8: 4.9438852 | CV8: 4.6752326
B9: Trimestre / trimestre imediatamente anterior (com ajuste para sazonalidade) | D9: 2.1291651 | E9: 1.6578372 | F9: 2.4536472 | G9: -0.157715 | H9: -2.2100554 | I9: 3.5604341 | J9: -0.57216638 | K9: 1.5252324 | L9: 1.672146 | M9: 0.64814403 | N9: 0.054861227 | O9: 2.2824467 | P9: -0.082354873 | Q9: 0.77526268 | R9: 2.0315821 | S9: 2.350851 | T9: 3.1797162 | U9: 2.4627946 | V9: 1.5369802 | W9: -0.38651928 | X9: 2.9822519 | Y9: 2.0345312 | Z9: 3.3773023 | AA9: 2.3348476 | AB9: 4.8583359 | AC9: 1.214486 | AD9: -10.471303 | AE9: -8.4923764 | AF9: 5.3456908 | AG9: 7.4244765 | AH9: 3.6385758 | AI9: 4.6566477 | AJ9: 0.90015533 | AK9: 3.4737074 | AL9: -0.48294429 | AM9: 7.3113832 | AN9: -0.58620137 | AO9: -1.9421127 | AP9: 0.14024416 | AQ9: -1.0106183 | AR9: 1.9742585 | AS9: -0.53895639 | AT9: -0.81801276 | AU9: 0.1078542 | AV9: 0.8913346 | AW9: -0.84445637 | AX9: 0.71887695 | AY9: -0.32504765 | AZ9: 1.2638575 | BA9: 4.3294801 | BB9: 0.65688953 | BC9: -1.1659793 | BD9: -4.4592739 | BE9: 2.1997879 | BF9: -5.7354061 | BG9: -0.34626695 | BH9: -1.906987 | BI9: 0.60923878 | BJ9: 1.5999511 | BK9: -0.17012699 | BL9: 0.94450288 | BM9: -1.8622075 | BN9: 0.43570613 | BO9: 2.1533676 | BP9: 3.2240304 | BQ9: -2.3583799 | BR9: -0.21240881 | BS9: -0.46391895 | BT9: -4.1750065 | BU9: 1.5226421 | BV9: -1.1369459 | BW9: -0.75698068 | BX9: -12.372102 | BY9: 12.503572 | BZ9: 4.3574832 | CA9: -0.41238913 | CB9: -0.98023492 | CC9: 2.5746557 | CD9: 0.86084778 | CE9: 0.047516077 | CF9: -1.6113523 | CG9: -4.0508174 | CH9: -0.32745312 | CI9: 5.5332684 | CJ9: 0.50935699 | CK9: 0.68351735 | CL9: -0.14541616 | CM9: 0.29378442 | CN9: 0.77240161 | CO9: 1.2586779 | CP9: -0.44213756 | CQ9: 1.3193684 | CR9: 2.3409093 | CS9: 0.1429747 | CT9: 2.2321807 | CU9: 0.26747981 | CV9: 1.9097192
B10: Elaboração: Coordenação de Estudos Econômicos (CEE/IJSN)

Sheet Planilha2
B1: Tabela 2 - Variação (%) em relação ao trimestre imediatamente anterior (com ajuste para sazonalidade)
C2: Espírito Santo | G2: Brasil
C3: Agropecuária | D3: Indústria | E3: Serviços | F3: PIB | G3: Agropecuária | H3: Indústria | I3: Serviços | J3: PIB
B4: 2002.I
B5: 2002.II | C5: -0.045752822 | D5: 3.9434943 | E5: 0.59160184 | F5: 2.1291651 | G5: 2.374276 | H5: 1.2550559 | I5: 0.74276374 | J5: 0.22391198
B6: 2002.III | C6: 4.3448745 | D6: 3.8678288 | E6: -1.0591393 | F6: 1.6578372 | G6: 7.0198245 | H6: 0.70987841 | I6: 1.0536919 | J6: 1.3960272
B7: 2002.IV | C7: 6.4245271 | D7: 5.8244843 | E7: 0.76156533 | F7: 2.4536472 | G7: 2.8456578 | H7: 3.0007358 | I7: 0.5596267 | J7: 1.0199473
B8: 2003.I | C8: 2.2806202 | D8: 0.74479821 | E8: -0.20359345 | F8: -0.157715 | G8: 2.3093868 | H8: -5.2697213 | I8: -0.51602578 | J8: -0.44207113
B9: 2003.II | C9: -16.770073 | D9: -1.6580956 | E9: -0.11354797 | F9: -2.2100554 | G9: -0.040006433 | H9: 0.83845723 | I9: -0.40678981 | J9: -0.84241955
B10: 2003.III | C10: 12.325306 | D10: 1.943952 | E10: 1.5821301 | F10: 3.5604341 | G10: -2.8808731 | H10: 3.4659908 | I10: 0.93853189 | J10: 0.93998475
B11: 2003.IV | C11: 4.4391778 | D11: -4.5115024 | E11: 2.1646713 | F11: -0.57216638 | G11: 1.7279071 | H11: 1.1604805 | I11: 0.99973448 | J11: 1.0399256
B12: 2004.I | C12: -4.8324356 | D12: 3.8661938 | E12: 0.33003131 | F12: 1.5252324 | G12: 1.1837567 | H12: 1.585197 | I12: 1.656641 | J12: 1.3800344
B13: 2004.II | C13: -1.064949 | D13: 2.4190825 | E13: 2.2904423 | F13: 1.672146 | G13: 1.7274712 | H13: 2.4841732 | I13: 1.6307802 | J13: 2.7602479
B14: 2004.III | C14: -5.3895763 | D14: -1.5950727 | E14: 1.0198431 | F14: 0.64814403 | G14: -0.0075416817 | H14: 3.6179886 | I14: 0.98345604 | J14: 1.27299
B15: 2004.IV | C15: 1.7697002 | D15: 0.059310899 | E15: 0.32446907 | F15: 0.054861227 | G15: -1.1750143 | H15: -0.17396917 | I15: 1.6545453 | J15: 0.75996062
B16: 2005.I | C16: 7.6572889 | D16: 3.7118853 | E16: 2.6445095 | F16: 2.2824467 | G16: 2.5259597 | H16: -1.1114662 | I16: 0.060967993 | J16: 0.88552392
... B101: 2026.II | C101: 4.8963897 | D101: 2.9190555 | E101: 1.2041981 | F101: 1.9097192 | G101: 2.8213171 | H101: 0.12142255 | I101: 0.18578936 | J101: 0.47884015
B102: Elaboração: Coordenação de Estudos Econômicos (CEE/IJSN)

Sheet Planilha3
B1: Tabela 3 - Variação (%) acumulada ao longo do ano
C2: Espírito Santo | G2: Brasil
C3: Agropecuária | D3: Indústria | E3: Serviços | F3: PIB | G3: Agropecuária | H3: Indústria | I3: Serviços | J3: PIB
B4: 2002.I
B5: 2002.II
B6: 2002.III
B7: 2002.IV
B8: 2003.I | C8: 13.16117 | D8: 16.991449 | E8: 0.11853997 | F8: 6.1616928 | G8: 15.371846 | H8: 0.069242304 | I8: 1.8306206 | J8: 2.6670284
B9: 2003.II | C9: -1.116294 | D9: 12.083192 | E9: -0.26019213 | F9: 3.8312051 | G9: 14.397391 | H9: -1.0090481 | I9: 1.3539401 | J9: 1.7041719
B10: 2003.III | C10: -0.33803756 | D10: 10.225604 | E10: 0.50211514 | F10: 3.7625262 | G10: 10.09692 | H10: 0.024055116 | I10: 1.0496453 | J10: 1.3313601
B11: 2003.IV | C11: -0.52086877 | D11: 6.5454962 | E11: 1.2528262 | F11: 2.9365994 | G11: 8.3063422 | H11: 0.10361962 | I11: 0.99131977 | J11: 1.140829
B12: 2004.I | C12: -7.5353686 | D12: 1.7474748 | E12: 5.1959151 | F12: 3.3364703 | G12: 0.012538892 | H12: 7.3770552 | I12: 3.3206069 | J12: 3.8780824
B13: 2004.II | C13: 6.4711046 | D13: 2.6347125 | E13: 5.8471146 | F13: 4.8513368 | G13: 1.0063273 | H13: 8.1718524 | I13: 4.4546935 | J13: 5.1076361
B14: 2004.III | C14: 2.8937624 | D14: 1.8293238 | E14: 5.8799128 | F14: 4.3583763 | G14: 2.0938149 | H14: 8.4099199 | I14: 4.7156371 | J14: 5.6060153
B15: 2004.IV | C15: 0.34786169 | D15: 2.6229801 | E15: 5.3776741 | F15: 4.2666638 | G15: 1.9951236 | H15: 8.2148896 | I15: 5.0095557 | J15: 5.7599646
B16: 2005.I | C16: 1.4416837 | D16: -0.21815403 | E16: 5.2457008 | F16: 3.2548363 | G16: 3.1765902 | H16: 4.2022637 | I16: 4.5343182 | J16: 4.1843253
B17: 2005.II | C17: 4.2197802 | D17: -0.44117777 | E17: 5.0202132 | F17: 3.1176 | G17: 2.7760311 | H17: 4.7396764 | I17: 4.3773116 | J17: 4.3330606
B18: 2005.III | C18: 6.8248919 | D18: -1.0094226 | E18: 5.1098726 | F18: 3.1263807 | G18: 1.2759247 | H18: 2.6200393 | I18: 4.0884281 | J18: 3.5644255
B19: 2005.IV | C19: 7.8263236 | D19: -0.56081674 | E19: 5.3932946 | F19: 3.5414751 | G19: 1.1200662 | H19: 1.9943905 | I19: 3.660634 | J19: 3.2021352
... B101: 2026.II | C101: -0.35628126 | D101: 10.90379 | E101: 2.8724961 | F101: 4.7998267 | G101: 3.594262 | H101: 1.5666516 | I101: 1.824831 | J101: 1.9121207
B102: Elaboração: Coordenação de Estudos Econômicos (CEE/IJSN)

Sheet Planilha4
B1: Tabela 4 - Variação (%) em relação ao mesmo trimestre do ano anterior
C2: Espírito Santo | G2: Brasil
C3: Agropecuária | D3: Indústria | E3: Serviços | F3: PIB | G3: Agropecuária | H3: Indústria | I3: Serviços | J3: PIB
B4: 2002.I
B5: 2002.II
B6: 2002.III
B7: 2002.IV
B8: 2003.I | C8: 13.16117 | D8: 16.991449 | E8: 0.11853997 | F8: 6.1616928 | G8: 15.371846 | H8: 0.069242304 | I8: 1.8306206 | J8: 2.6670284
B9: 2003.II | C9: -5.1733906 | D9: 7.5415732 | E9: -0.63360325 | F9: 1.6886751 | G9: 13.434888 | H9: -1.9913947 | I9: 0.88887342 | J9: 0.78124238
B10: 2003.III | C10: 1.8366113 | D10: 6.83392 | E10: 2.0300278 | F10: 3.627791 | G10: 1.4687258 | H10: 1.9062119 | I10: 0.47002098 | J10: 0.62618071
B11: 2003.IV | C11: -1.3542682 | D11: -3.2800913 | E11: 3.4346188 | F11: 0.57631884 | G11: 0.77621901 | H11: 0.32561996 | I11: 0.82503513 | J11: 0.58871195
B12: 2004.I | C12: -7.5353686 | D12: 1.7474748 | E12: 5.1959151 | F12: 3.3364703 | G12: 0.012538892 | H12: 7.3770552 | I12: 3.3206069 | J12: 3.8780824
B13: 2004.II | C13: 11.22074 | D13: 3.5278148 | E13: 6.494025 | F13: 6.3052877 | G13: 2.0046884 | H13: 8.9111542 | I13: 5.5714776 | J13: 6.3082566
B14: 2004.III | C14: -6.8124035 | D14: 0.28654798 | E14: 5.9441754 | F14: 3.3893825 | G14: 4.5536849 | H14: 8.8312349 | I14: 5.2170585 | J14: 6.5588065
B15: 2004.IV | C15: -11.376668 | D15: 5.037868 | E15: 3.9594003 | F15: 3.9962707 | G15: 1.541699 | H15: 7.672353 | I15: 5.849377 | J15: 6.2093693
B16: 2005.I | C16: 1.4416837 | D16: -0.21815403 | E16: 5.2457008 | F16: 3.2548363 | G16: 3.1765902 | H16: 4.2022637 | I16: 4.5343182 | J16: 4.1843253
B17: 2005.II | C17: 5.002973 | D17: -0.66181506 | E17: 4.7989413 | F17: 2.9895608 | G17: 2.3814879 | H17: 5.2325237 | I17: 4.2259969 | J17: 4.4749759
B18: 2005.III | C18: 14.900723 | D18: -2.1234206 | E18: 5.2853846 | F18: 3.1438845 | G18: -2.0021521 | H18: -1.1084177 | I18: 3.5373403 | J18: 2.1149767
B19: 2005.IV | C19: 13.180791 | D19: 0.76247769 | E19: 6.2084367 | F19: 4.7695458 | G19: 0.40010089 | H19: 0.24203434 | I19: 2.4513795 | J19: 2.1505552
... B101: 2026.II | C101: 0.51235512 | D101: 10.031851 | E101: 3.210275 | F101: 4.6752326 | G101: 6.7643315 | H101: 1.5017409 | I101: 1.5168303 | J101: 1.9835909
B102: Elaboração: Coordenação de Estudos Econômicos (CEE/IJSN)

Sheet Planilha5
B1: Tabela 5 - Variação (%) acumulada em quatro trimestres em relação a igual período anterior
C2: Espírito Santo | G2: Brasil
C3: Agropecuária | D3: Indústria | E3: Serviços | F3: PIB | G3: Agropecuária | H3: Indústria | I3: Serviços | J3: PIB
B4: 2002.I
B5: 2002.II
B6: 2002.III
B7: 2002.IV
B8: 2003.I
B9: 2003.II
B10: 2003.III
B11: 2003.IV | C11: -0.52086877 | D11: 6.5454962 | E11: 1.2528262 | F11: 2.9365994 | G11: 8.3063422 | H11: 0.10361962 | I11: 0.99131977 | J11: 1.140829
B12: 2004.I | C12: -3.360247 | D12: 3.0516135 | E12: 2.5047992 | F12: 2.2877856 | G12: 4.0260183 | H12: 1.7602789 | I12: 1.3571438 | J12: 1.444529
B13: 2004.II | C13: 4.0451806 | D13: 2.1326154 | E13: 4.2822242 | F13: 3.4632416 | G13: 1.0806154 | H13: 4.4492843 | I13: 2.5094092 | J13: 2.8150418
B14: 2004.III | C14: 2.1273698 | D14: 0.53348279 | E14: 5.2562556 | F14: 3.404578 | G14: 1.859785 | H14: 6.2773457 | I14: 3.7131371 | J14: 4.33141
B15: 2004.IV | C15: 0.34786169 | D15: 2.6229801 | E15: 5.3776741 | F15: 4.2666638 | G15: 1.9951236 | H15: 8.2148896 | I15: 5.0095557 | J15: 5.7599646
B16: 2005.I | C16: 1.7157242 | D16: 2.1252226 | E16: 5.3880034 | F16: 4.238918 | G16: 2.8981407 | H16: 7.4416766 | I16: 5.2968266 | J16: 5.8186425
B17: 2005.II | C17: -0.80835171 | D17: 1.0821165 | E17: 4.9746691 | F17: 3.4017552 | G17: 3.0016496 | H17: 6.5328961 | I17: 4.9592251 | J17: 5.355624
B18: 2005.III | C18: 3.6530724 | D18: 0.46610228 | E18: 4.8215299 | F18: 3.3397582 | G18: 1.3226291 | H18: 3.8781626 | I18: 4.5295402 | J18: 4.2122479
B19: 2005.IV | C19: 7.8263236 | D19: -0.56081674 | E19: 5.3932946 | F19: 3.5414751 | G19: 1.1200662 | H19: 1.9943905 | I19: 3.660634 | J19: 3.2021352
B20: 2006.I | C20: 8.2601323 | D20: 0.28801581 | E20: 5.5961098 | F20: 4.0578958 | G20: 0.37280831 | H20: 1.8074129 | I20: 3.6881815 | J20: 3.2349932
B21: 2006.II | C21: 7.3489521 | D21: 2.848059 | E21: 6.0638569 | F21: 5.4988478 | G21: -0.39118603 | H21: 0.061890962 | I21: 3.609773 | J21: 2.6907608
B22: 2006.III | C22: 4.2796197 | D22: 7.0285251 | E22: 6.5571643 | F22: 7.2564755 | G22: 2.8991832 | H22: 1.0116075 | I22: 3.819509 | J22: 3.2973501
... B101: 2026.II | C101: 1.584755 | D101: 10.343397 | E101: 2.7357972 | F101: 4.7686772 | G101: 6.1901245 | H101: 1.3671576 | I101: 1.7270866 | J101: 1.8728163
B102: Elaboração: Coordenação de Estudos Econômicos (CEE/IJSN)

Sheet Planilha6
B2: Tabela 6 - Taxas de Variação - Brasil e Espírito Santo (II Trimestre de 2026)
B3: Taxas (%) | C3: Brasil | D3: Espírito Santo
B4: Acumulado ao longo do ano / mesmo período do ano anterior | C4: =Planilha3!J101 -> 1.9121207 | D4: =Planilha1!CV6 -> 4.7998267
B5: Últimos quatro trimestres / quatro trimestres imediatamente anteriores | C5: =Planilha5!J101 -> 1.8728163 | D5: =Planilha1!CV7 -> 4.7686772
B6: Trimestre / mesmo trimestre do ano anterior | C6: =Planilha4!J101 -> 1.9835909 | D6: =Planilha1!CV8 -> 4.6752326
B7: Trimestre / trimestre imediatamente anterior (com ajuste para sazonalidade) | C7: =Planilha2!J101 -> 0.47884015 | D7: =Planilha1!CV9 -> 1.9097192
B8: Elaboração: Coordenação de Estudos Econômicos (CEE/IJSN)

Sheet Planilha7
B2: Tabela 7 - PIB Nominal Trimestral do Espírito Santo (R$ bilhões)
B3: Ano / trimestre | C3: PIB nominal ajustado ao benchmark anual | D3: Acumulado em quatro trimestres
B4: 2002.I | C4: 6.2186845
B5: 2002.II | C5: 6.8239902
B6: 2002.III | C6: 6.758649
B7: 2002.IV | C7: 7.2476729 | D7: 27.048997
B8: 2003.I | C8: 7.3092413 | D8: 28.139553
B9: 2003.II | C9: 7.8334094 | D9: 29.148973
B10: 2003.III | C10: 7.9804941 | D10: 30.370818
B11: 2003.IV | C11: 8.3959611 | D11: 31.519106
B12: 2004.I | C12: 8.8678159 | D12: 33.07768
B13: 2004.II | C13: 9.9576365 | D13: 35.201908
B14: 2004.III | C14: 10.191738 | D14: 37.413151
B15: 2004.IV | C15: 10.715448 | D15: 39.732638
B16: 2005.I | C16: 10.910439 | D16: 41.775261
B17: 2005.II | C17: 12.034838 | D17: 43.852462
B18: 2005.III | C18: 11.793974 | D18: 45.454698
... B101: 2026.II | C101: 72.059437 | D101: 259.1785
B102: Elaboração: Coordenação de Estudos Econômicos (CEE/IJSN)

Sheet Valores
B1: Gráfico 1 | F1: Gráfico 2 | K1: Gráfico 3 | P1: Gráfico 4 | U1: Gráfico 5 | Z1: Gráfico 6
B2: Variação % contra o trimestre anterior | F2: Variação % acumulada no ano | K2: Variação % contra o mesmo trimestre do ano anterior | P2: Variação % acumulada em quatro trimestres | U2: PIB nominal trimestral (R$ Bilhões) | Z2: PIB Trimestral Espírito Santo e Brasil
B3: com ajuste sazonal | F3: em relação ao mesmo período do ano anterior | P3: em relação a igual período anterior | U3: Espírito Santo | Z3: Série Dessazonalizada (Base: 2002=100)
B4: Ano | C4: Trimestre | D4: Variação (%) ES | F4: Ano | G4: Trimestre | H4: Espírito Santo | I4: Brasil | K4: Ano | L4: Trimestre | M4: Espírito Santo | N4: Brasil | P4: Ano | Q4: Trimestre | R4: Espírito Santo | S4: Brasil | U4: Ano | V4: Trimestre | W4: PIB nominal trimestral | X4: PIB acumulado em 4 trimestres | Z4: Ano | AA4: Trimestre | AB4: Espírito Santo | AC4: Brasil
B5: 2002 | C5: I | F5: 2002 | G5: I | K5: 2002 | L5: I | P5: 2002 | Q5: I | U5: 2002 | V5: I | W5: =Planilha7!C4 -> 6.2186845 | Z5: 2002 | AA5: I | AB5: 97.031234 | AC5: 98.885916
C6: II | D6: =Planilha2!F5 -> 2.1291651 | G6: II | L6: II | Q6: II | V6: II | W6: =Planilha7!C5 -> 6.8239902 | AA6: II | AB6: 99.097189 | AC6: 99.107333
C7: III | D7: =Planilha2!F6 -> 1.6578372 | G7: III | L7: III | Q7: III | V7: III | W7: =Planilha7!C6 -> 6.758649 | AA7: III | AB7: 100.74006 | AC7: 100.4909
C8: IV | D8: =Planilha2!F7 -> 2.4536472 | G8: IV | L8: IV | Q8: IV | V8: IV | W8: =Planilha7!C7 -> 7.2476729 | X8: 27.048997 | AA8: IV | AB8: 103.21187 | AC8: 101.51585
B9: 2003 | C9: I | D9: =Planilha2!F8 -> -0.157715 | F9: 2003 | G9: I | H9: =Planilha3!F8 -> 6.1616928 | I9: =Planilha3!J8 -> 2.6670284 | K9: 2003 | L9: I | M9: =Planilha4!F8 -> 6.1616928 | N9: =Planilha4!J8 -> 2.6670284 | P9: 2003 | Q9: I | U9: 2003 | V9: I | W9: =Planilha7!C8 -> 7.3092413 | X9: 28.139553 | Z9: 2003 | AA9: I | AB9: 103.04908 | AC9: 101.06708
C10: II | D10: =Planilha2!F9 -> -2.2100554 | G10: II | H10: =Planilha3!F9 -> 3.8312051 | I10: =Planilha3!J9 -> 1.7041719 | L10: II | M10: =Planilha4!F9 -> 1.6886751 | N10: =Planilha4!J9 -> 0.78124238 | Q10: II | V10: II | W10: =Planilha7!C9 -> 7.8334094 | X10: 29.148973 | AA10: II | AB10: 100.77164 | AC10: 100.21567
C11: III | D11: =Planilha2!F10 -> 3.5604341 | G11: III | H11: =Planilha3!F10 -> 3.7625262 | I11: =Planilha3!J10 -> 1.3313601 | L11: III | M11: =Planilha4!F10 -> 3.627791 | N11: =Planilha4!J10 -> 0.62618071 | Q11: III | V11: III | W11: =Planilha7!C10 -> 7.9804941 | X11: 30.370818 | AA11: III | AB11: 104.35955 | AC11: 101.15768
C12: IV | D12: =Planilha2!F11 -> -0.57216638 | G12: IV | H12: =Planilha3!F11 -> 2.9365994 | I12: =Planilha3!J11 -> 1.140829 | L12: IV | M12: =Planilha4!F11 -> 0.57631884 | N12: =Planilha4!J11 -> 0.58871195 | Q12: IV | R12: =Planilha5!F11 -> 2.9365994 | S12: =Planilha5!J11 -> 1.140829 | V12: IV | W12: =Planilha7!C11 -> 8.3959611 | X12: 31.519106 | AA12: IV | AB12: 103.76244 | AC12: 102.20965
B13: 2004 | C13: I | D13: =Planilha2!F12 -> 1.5252324 | F13: 2004 | G13: I | H13: =Planilha3!F12 -> 3.3364703 | I13: =Planilha3!J12 -> 3.8780824 | K13: 2004 | L13: I | M13: =Planilha4!F12 -> 3.3364703 | N13: =Planilha4!J12 -> 3.8780824 | P13: 2004 | Q13: I | R13: =Planilha5!F12 -> 2.2877856 | S13: =Planilha5!J12 -> 1.444529 | U13: 2004 | V13: I | W13: =Planilha7!C12 -> 8.8678159 | X13: 33.07768 | Z13: 2004 | AA13: I | AB13: 105.34506 | AC13: 103.62018
C14: II | D14: =Planilha2!F13 -> 1.672146 | G14: II | H14: =Planilha3!F13 -> 4.8513368 | I14: =Planilha3!J13 -> 5.1076361 | L14: II | M14: =Planilha4!F13 -> 6.3052877 | N14: =Planilha4!J13 -> 6.3082566 | Q14: II | R14: =Planilha5!F13 -> 3.4632416 | S14: =Planilha5!J13 -> 2.8150418 | V14: II | W14: =Planilha7!C13 -> 9.9576365 | X14: 35.201908 | AA14: II | AB14: 107.10658 | AC14: 106.48035
C15: III | D15: =Planilha2!F14 -> 0.64814403 | G15: III | H15: =Planilha3!F14 -> 4.3583763 | I15: =Planilha3!J14 -> 5.6060153 | L15: III | M15: =Planilha4!F14 -> 3.3893825 | N15: =Planilha4!J14 -> 6.5588065 | Q15: III | R15: =Planilha5!F14 -> 3.404578 | S15: =Planilha5!J14 -> 4.33141 | V15: III | W15: =Planilha7!C14 -> 10.191738 | X15: 37.413151 | AA15: III | AB15: 107.80079 | AC15: 107.83583
C16: IV | D16: =Planilha2!F15 -> 0.054861227 | G16: IV | H16: =Planilha3!F15 -> 4.2666638 | I16: =Planilha3!J15 -> 5.7599646 | L16: IV | M16: =Planilha4!F15 -> 3.9962707 | N16: =Planilha4!J15 -> 6.2093693 | Q16: IV | R16: =Planilha5!F15 -> 4.2666638 | S16: =Planilha5!J15 -> 5.7599646 | V16: IV | W16: =Planilha7!C15 -> 10.715448 | X16: 39.732638 | AA16: IV | AB16: 107.85993 | AC16: 108.65534
B17: 2005 | C17: I | D17: =Planilha2!F16 -> 2.2824467 | F17: 2005 | G17: I | H17: =Planilha3!F16 -> 3.2548363 | I17: =Planilha3!J16 -> 4.1843253 | K17: 2005 | L17: I | M17: =Planilha4!F16 -> 3.2548363 | N17: =Planilha4!J16 -> 4.1843253 | P17: 2005 | Q17: I | R17: =Planilha5!F16 -> 4.238918 | S17: =Planilha5!J16 -> 5.8186425 | U17: 2005 | V17: I | W17: =Planilha7!C16 -> 10.910439 | X17: 41.775261 | Z17: 2005 | AA17: I | AB17: 110.32177 | AC17: 109.61751
C18: II | D18: =Planilha2!F17 -> -0.082354873 | G18: II | H18: =Planilha3!F17 -> 3.1176 | I18: =Planilha3!J17 -> 4.3330606 | L18: II | M18: =Planilha4!F17 -> 2.9895608 | N18: =Planilha4!J17 -> 4.4749759 | Q18: II | R18: =Planilha5!F17 -> 3.4017552 | S18: =Planilha5!J17 -> 5.355624 | V18: II | W18: =Planilha7!C17 -> 12.034838 | X18: 43.852462 | AA18: II | AB18: 110.23092 | AC18: 110.76952
C19: III | D19: =Planilha2!F18 -> 0.77526268 | G19: III | H19: =Planilha3!F18 -> 3.1263807 | I19: =Planilha3!J18 -> 3.5644255 | L19: III | M19: =Planilha4!F18 -> 3.1438845 | N19: =Planilha4!J18 -> 2.1149767 | Q19: III | R19: =Planilha5!F18 -> 3.3397582 | S19: =Planilha5!J18 -> 4.2122479 | V19: III | W19: =Planilha7!C18 -> 11.793974 | X19: 45.454698 | AA19: III | AB19: 111.0855 | AC19: 110.14129
C20: IV | D20: =Planilha2!F19 -> 2.0315821 | G20: IV | H20: =Planilha3!F19 -> 3.5414751 | I20: =Planilha3!J19 -> 3.2021352 | L20: IV | M20: =Planilha4!F19 -> 4.7695458 | N20: =Planilha4!J19 -> 2.1505552 | Q20: IV | R20: =Planilha5!F19 -> 3.5414751 | S20: =Planilha5!J19 -> 3.2021352 | V20: IV | W20: =Planilha7!C19 -> 12.281338 | X20: 47.020588 | AA20: IV | AB20: 113.34229 | AC20: 111.53529
B21: 2006 | C21: I | D21: =Planilha2!F20 -> 2.350851 | F21: 2006 | G21: I | H21: =Planilha3!F20 -> 5.3621054 | I21: =Planilha3!J20 -> 4.2790967 | K21: 2006 | L21: I | M21: =Planilha4!F20 -> 5.3621054 | N21: =Planilha4!J20 -> 4.2790967 | P21: 2006 | Q21: I | R21: =Planilha5!F20 -> 4.0578958 | S21: =Planilha5!J20 -> 3.2349932 | U21: 2006 | V21: I | W21: =Planilha7!C20 -> 12.295937 | X21: 48.406086 | Z21: 2006 | AA21: I | AB21: 116.0068 | AC21: 113.34404
C22: II | D22: =Planilha2!F21 -> 3.1797162 | G22: II | H22: =Planilha3!F21 -> 7.0034532 | I22: =Planilha3!J21 -> 3.2563925 | L22: II | M22: =Planilha4!F21 -> 8.5387485 | N22: =Planilha4!J21 -> 2.2832974 | Q22: II | R22: =Planilha5!F21 -> 5.4988478 | S22: =Planilha5!J21 -> 2.6907608 | V22: II | W22: =Planilha7!C21 -> 13.621284 | X22: 49.992532 | AA22: II | AB22: 119.69549 | AC22: 113.6893
C23: III | D23: =Planilha2!F22 -> 2.4627946 | G23: III | H23: =Planilha3!F22 -> 8.0715875 | I23: =Planilha3!J22 -> 3.6788456 | L23: III | M23: =Planilha4!F22 -> 10.200325 | N23: =Planilha4!J22 -> 4.492788 | Q23: III | R23: =Planilha5!F22 -> 7.2564755 | S23: =Planilha5!J22 -> 3.2973501 | V23: III | W23: =Planilha7!C22 -> 13.51613 | X23: 51.714689 | AA23: III | AB23: 122.64334 | AC23: 115.5927
C24: IV | D24: =Planilha2!F23 -> 1.5369802 | G24: IV | H24: =Planilha3!F23 -> 8.5275605 | I24: =Planilha3!J23 -> 3.9619887 | L24: IV | M24: =Planilha4!F23 -> 9.8554143 | N24: =Planilha4!J23 -> 4.7952121 | Q24: IV | R24: =Planilha5!F23 -> 8.5275605 | S24: =Planilha5!J23 -> 3.9619887 | V24: IV | W24: =Planilha7!C23 -> 14.030518 | X24: 53.463868 | AA24: IV | AB24: 124.52834 | AC24: 116.94385
B25: 2007 | C25: I | D25: =Planilha2!F24 -> -0.38651928 | F25: 2007 | G25: I | H25: =Planilha3!F24 -> 6.9062243 | I25: =Planilha3!J24 -> 5.1946907 | K25: 2007 | L25: I | M25: =Planilha4!F24 -> 6.9062243 | N25: =Planilha4!J24 -> 5.1946907 | P25: 2007 | Q25: I | R25: =Planilha5!F24 -> 8.8722184 | S25: =Planilha5!J24 -> 4.1916189 | U25: 2007 | V25: I | W25: =Planilha7!C24 -> 13.719818 | X25: 54.88775 | Z25: 2007 | AA25: I | AB25: 124.04702 | AC25: 119.13954
C26: II | D26: =Planilha2!F25 -> 2.9822519 | G26: II | H26: =Planilha3!F25 -> 6.7475045 | I26: =Planilha3!J25 -> 5.8761763 | L26: II | M26: =Planilha4!F25 -> 6.6033853 | N26: =Planilha4!J25 -> 6.5372571 | Q26: II | R26: =Planilha5!F25 -> 8.3452302 | S26: =Planilha5!J25 -> 5.2590929 | V26: II | W26: =Planilha7!C25 -> 15.236303 | X26: 56.502768 | AA26: II | AB26: 127.74641 | AC26: 121.14019
C27: III | D27: =Planilha2!F26 -> 2.0345312 | G27: III | H27: =Planilha3!F26 -> 6.6434807 | I27: =Planilha3!J26 -> 5.8741362 | L27: III | M27: =Planilha4!F26 -> 6.4421805 | N27: =Planilha4!J26 -> 5.8702519 | Q27: III | R27: =Planilha5!F26 -> 7.4179653 | S27: =Planilha5!J26 -> 5.6078025 | V27: III | W27: =Planilha7!C26 -> 15.323468 | X27: 58.310106 | AA27: III | AB27: 130.34545 | AC27: 122.39722
C28: IV | D28: =Planilha2!F27 -> 3.3773023 | G28: IV | H28: =Planilha3!F27 -> 7.1185821 | I28: =Planilha3!J27 -> 6.0698706 | L28: IV | M28: =Planilha4!F27 -> 8.4796746 | N28: =Planilha4!J27 -> 6.639735 | Q28: IV | R28: =Planilha5!F27 -> 7.1185821 | S28: =Planilha5!J27 -> 6.0698706 | V28: IV | W28: =Planilha7!C27 -> 16.378806 | X28: 60.658395 | AA28: IV | AB28: 134.74761 | AC28: 124.24782
B29: 2008 | C29: I | D29: =Planilha2!F28 -> 2.3348476 | F29: 2008 | G29: I | H29: =Planilha3!F28 -> 12.255683 | I29: =Planilha3!J28 -> 6.1574045 | K29: 2008 | L29: I | M29: =Planilha4!F28 -> 12.255683 | N29: =Planilha4!J28 -> 6.1574045 | P29: 2008 | Q29: I | R29: =Planilha5!F28 -> 8.4242713 | S29: =Planilha5!J28 -> 6.2994369 | U29: 2008 | V29: I | W29: =Planilha7!C28 -> 16.795598 | X29: 63.734175 | Z29: 2008 | AA29: I | AB29: 137.89376 | AC29: 125.82242
C30: II | D30: =Planilha2!F29 -> 4.8583359 | G30: II | H30: =Planilha3!F29 -> 12.653898 | I30: =Planilha3!J29 -> 6.2486888 | L30: II | M30: =Planilha4!F29 -> 13.016508 | N30: =Planilha4!J29 -> 6.3361239 | Q30: II | R30: =Planilha5!F29 -> 10.08966 | S30: =Planilha5!J29 -> 6.2515794 | V30: II | W30: =Planilha7!C29 -> 19.049515 | X30: 67.547387 | AA30: II | AB30: 144.59311 | AC30: 128.35588
C31: III | D31: =Planilha2!F30 -> 1.214486 | G31: III | H31: =Planilha3!F30 -> 12.699657 | I31: =Planilha3!J30 -> 6.5007958 | L31: III | M31: =Planilha4!F30 -> 12.788461 | N31: =Planilha4!J30 -> 6.9808113 | Q31: III | R31: =Planilha5!F30 -> 11.659015 | S31: =Planilha5!J30 -> 6.5348292 | V31: III | W31: =Planilha7!C30 -> 19.007862 | X31: 71.231781 | AA31: III | AB31: 146.34917 | AC31: 130.46301
C32: IV | D32: =Planilha2!F31 -> -10.471303 | G32: IV | H32: =Planilha3!F31 -> 8.6232967 | I32: =Planilha3!J31 -> 5.0941954 | L32: IV | M32: =Planilha4!F31 -> -2.8571758 | N32: =Planilha4!J31 -> 1.0283975 | Q32: IV | R32: =Planilha5!F31 -> 8.6232967 | S32: =Planilha5!J31 -> 5.0941954 | V32: IV | W32: =Planilha7!C31 -> 17.238183 | X32: 72.091158 | AA32: IV | AB32: 131.0245 | AC32: 125.54078
B33: 2009 | C33: I | D33: =Planilha2!F32 -> -8.4923764 | F33: 2009 | G33: I | H33: =Planilha3!F32 -> -14.035444 | I33: =Planilha3!J32 -> -2.4260544 | K33: 2009 | L33: I | M33: =Planilha4!F32 -> -14.035444 | N33: =Planilha4!J32 -> -2.4260544 | P33: 2009 | Q33: I | R33: =Planilha5!F32 -> 2.0628203 | S33: =Planilha5!J32 -> 2.9694427 | U33: 2009 | V33: I | W33: =Planilha7!C32 -> 15.275794 | X33: 70.571354 | Z33: 2009 | AA33: I | AB33: 119.89741 | AC33: 123.73499
C34: II | D34: =Planilha2!F33 -> 5.3456908 | G34: II | H34: =Planilha3!F33 -> -13.313361 | I34: =Planilha3!J33 -> -2.312024 | L34: II | M34: =Planilha4!F33 -> -12.660267 | N34: =Planilha4!J33 -> -2.2029853 | Q34: II | R34: =Planilha5!F33 -> -4.5625157 | S34: =Planilha5!J33 -> 0.8284737 | V34: II | W34: =Planilha7!C33 -> 17.214046 | X34: 68.735885 | AA34: II | AB34: 126.30675 | AC34: 126.0181
C35: III | D35: =Planilha2!F34 -> 7.4244765 | G35: III | H35: =Planilha3!F34 -> -11.234057 | I35: =Planilha3!J34 -> -1.9144521 | L35: III | M35: =Planilha4!F34 -> -7.2035965 | N35: =Planilha4!J34 -> -1.1626502 | Q35: III | R35: =Planilha5!F34 -> -9.2271478 | S35: =Planilha5!J34 -> -1.1928861 | V35: III | W35: =Planilha7!C34 -> 17.953194 | X35: 67.681217 | AA35: III | AB35: 135.68437 | AC35: 128.96554
C36: IV | D36: =Planilha2!F35 -> 3.6385758 | G36: IV | H36: =Planilha3!F35 -> -6.9248585 | I36: =Planilha3!J35 -> -0.125812 | L36: IV | M36: =Planilha4!F35 -> 7.1549117 | N36: =Planilha4!J35 -> 5.3243249 | Q36: IV | R36: =Planilha5!F35 -> -6.9248585 | S36: =Planilha5!J35 -> -0.125812 | V36: IV | W36: =Planilha7!C35 -> 18.772327 | X36: 69.215361 | AA36: IV | AB36: 140.62135 | AC36: 132.29044
B37: 2010 | C37: I | D37: =Planilha2!F36 -> 4.6566477 | F37: 2010 | G37: I | H37: =Planilha3!F36 -> 22.793438 | I37: =Planilha3!J36 -> 9.2090928 | K37: 2010 | L37: I | M37: =Planilha4!F36 -> 22.793438 | N37: =Planilha4!J36 -> 9.2090928 | P37: 2010 | Q37: I | R37: =Planilha5!F36 -> 1.1818788 | S37: =Planilha5!J36 -> 2.6367021 | U37: 2010 | V37: I | W37: =Planilha7!C36 -> 19.383666 | X37: 73.323233 | Z37: 2010 | AA37: I | AB37: 147.16959 | AC37: 135.01446
C38: II | D38: =Planilha2!F37 -> 0.90015533 | G38: II | H38: =Planilha3!F37 -> 20.067528 | I38: =Planilha3!J37 -> 8.8552855 | L38: II | M38: =Planilha4!F37 -> 17.640871 | N38: =Planilha4!J37 -> 8.5177381 | Q38: II | R38: =Planilha5!F37 -> 9.2050378 | S38: =Planilha5!J37 -> 5.3337139 | V38: II | W38: =Planilha7!C37 -> 21.441735 | X38: 77.550923 | AA38: II | AB38: 148.49434 | AC38: 136.74355
C39: III | D39: =Planilha2!F38 -> 3.4737074 | G39: III | H39: =Planilha3!F38 -> 17.660602 | I39: =Planilha3!J38 -> 8.1762579 | L39: III | M39: =Planilha4!F38 -> 13.302269 | N39: =Planilha4!J38 -> 6.9071595 | Q39: III | R39: =Planilha5!F38 -> 14.967054 | S39: =Planilha5!J38 -> 7.4612636 | V39: III | W39: =Planilha7!C38 -> 21.902409 | X39: 81.500137 | AA39: III | AB39: 153.6526 | AC39: 137.94449
C40: IV | D40: =Planilha2!F39 -> -0.48294429 | G40: IV | H40: =Planilha3!F39 -> 15.229842 | I40: =Planilha3!J39 -> 7.5282258 | L40: IV | M40: =Planilha4!F39 -> 8.6506072 | N40: =Planilha4!J39 -> 5.6893294 | Q40: IV | R40: =Planilha5!F39 -> 15.229842 | S40: =Planilha5!J39 -> 7.5282258 | V40: IV | W40: =Planilha7!C39 -> 22.582474 | X40: 85.310285 | AA40: IV | AB40: 152.91055 | AC40: 139.91767
B41: 2011 | C41: I | D41: =Planilha2!F40 -> 7.3113832 | F41: 2011 | G41: I | H41: =Planilha3!F40 -> 11.353226 | I41: =Planilha3!J40 -> 5.1951172 | K41: 2011 | L41: I | M41: =Planilha4!F40 -> 11.353226 | N41: =Planilha4!J40 -> 5.1951172 | P41: 2011 | Q41: I | R41: =Planilha5!F40 -> 12.63075 | S41: =Planilha5!J40 -> 6.5547593 | U41: 2011 | V41: I | W41: =Planilha7!C40 -> 24.532423 | X41: 90.459041 | Z41: 2011 | AA41: I | AB41: 164.09042 | AC41: 141.79108
C42: II | D42: =Planilha2!F41 -> -0.58620137 | G42: II | H42: =Planilha3!F41 -> 10.648967 | I42: =Planilha3!J41 -> 4.9427772 | L42: II | M42: =Planilha4!F41 -> 9.9945629 | N42: =Planilha4!J41 -> 4.7005003 | Q42: II | R42: =Planilha5!F41 -> 10.786197 | S42: =Planilha5!J41 -> 5.6149192 | V42: II | W42: =Planilha7!C41 -> 27.224755 | X42: 96.242061 | AA42: II | AB42: 163.12852 | AC42: 143.23183
C43: III | D43: =Planilha2!F42 -> -1.9421127 | G43: III | H43: =Planilha3!F42 -> 8.4430829 | I43: =Planilha3!J42 -> 4.4586551 | L43: III | M43: =Planilha4!F42 -> 4.210287 | N43: =Planilha4!J42 -> 3.5373456 | Q43: III | R43: =Planilha5!F42 -> 8.4926745 | S43: =Planilha5!J42 -> 4.761056 | V43: III | W43: =Planilha7!C42 -> 26.70899 | X43: 101.04864 | AA43: III | AB43: 159.96038 | AC43: 142.9081
C44: IV | D44: =Planilha2!F43 -> 0.14024416 | G44: IV | H44: =Planilha3!F43 -> 7.4069711 | I44: =Planilha3!J43 -> 3.9744231 | L44: IV | M44: =Planilha4!F43 -> 4.3700123 | N44: =Planilha4!J43 -> 2.568003 | Q44: IV | R44: =Planilha5!F43 -> 7.4069711 | S44: =Planilha5!J43 -> 3.9744231 | V44: IV | W44: =Planilha7!C43 -> 27.510054 | X44: 105.97622 | AA44: IV | AB44: 160.18472 | AC44: 144.21171
B45: 2012 | C45: I | D45: =Planilha2!F44 -> -1.0106183 | F45: 2012 | G45: I | H45: =Planilha3!F44 -> -2.4487181 | I45: =Planilha3!J44 -> 1.707205 | K45: 2012 | L45: I | M45: =Planilha4!F44 -> -2.4487181 | N45: =Planilha4!J44 -> 1.707205 | P45: 2012 | Q45: I | R45: =Planilha5!F44 -> 3.9762238 | S45: =Planilha5!J44 -> 3.1237248 | U45: 2012 | V45: I | W45: =Planilha7!C44 -> 27.613647 | X45: 109.05745 | Z45: 2012 | AA45: I | AB45: 158.56586 | AC45: 142.15169
C46: II | D46: =Planilha2!F45 -> 1.9742585 | G46: II | H46: =Planilha3!F45 -> -1.5441828 | I46: =Planilha3!J45 -> 1.3403593 | L46: II | M46: =Planilha4!F45 -> -0.69329762 | N46: =Planilha4!J45 -> 0.98647928 | Q46: II | R46: =Planilha5!F45 -> 1.2826877 | S46: =Planilha5!J45 -> 2.1970905 | V46: II | W46: =Planilha7!C45 -> 30.409379 | X46: 112.24207 | AA46: II | AB46: 161.69636 | AC46: 144.72173
C47: III | D47: =Planilha2!F46 -> -0.53895639 | G47: III | H47: =Planilha3!F46 -> -0.93957884 | I47: =Planilha3!J46 -> 1.7313145 | L47: III | M47: =Planilha4!F46 -> 0.29225566 | N47: =Planilha4!J46 -> 2.4854216 | Q47: III | R47: =Planilha5!F46 -> 0.3310878 | S47: =Planilha5!J46 -> 1.9387271 | V47: III | W47: =Planilha7!C46 -> 29.466972 | X47: 115.00005 | AA47: III | AB47: 160.82489 | AC47: 147.2128
C48: IV | D48: =Planilha2!F47 -> -0.81801276 | G48: IV | H48: =Planilha3!F47 -> -0.72950883 | I48: =Planilha3!J47 -> 1.921176 | L48: IV | M48: =Planilha4!F47 -> -0.089740926 | N48: =Planilha4!J47 -> 2.482781 | Q48: IV | R48: =Planilha5!F47 -> -0.72950883 | S48: =Planilha5!J47 -> 1.921176 | V48: IV | W48: =Planilha7!C47 -> 29.360582 | X48: 116.85058 | AA48: IV | AB48: 159.50932 | AC48: 147.25387
B49: 2013 | C49: I | D49: =Planilha2!F48 -> 0.1078542 | F49: 2013 | G49: I | H49: =Planilha3!F48 -> -0.78235126 | I49: =Planilha3!J48 -> 2.7210987 | K49: 2013 | L49: I | M49: =Planilha4!F48 -> -0.78235126 | N49: =Planilha4!J48 -> 2.7210987 | P49: 2013 | Q49: I | R49: =Planilha5!F48 -> -0.3188599 | S49: =Planilha5!J48 -> 2.1684772 | U49: 2013 | V49: I | W49: =Planilha7!C48 -> 27.967738 | X49: 117.20467 | Z49: 2013 | AA49: I | AB49: 159.68136 | AC49: 148.04756
C50: II | D50: =Planilha2!F49 -> 0.8913346 | G50: II | H50: =Planilha3!F49 -> -0.4793859 | I50: =Planilha3!J49 -> 3.3808564 | L50: II | M50: =Planilha4!F49 -> -0.19942791 | N50: =Planilha4!J49 -> 4.0218382 | Q50: II | R50: =Planilha5!F49 -> -0.18956243 | S50: =Planilha5!J49 -> 2.9284554 | V50: II | W50: =Planilha7!C49 -> 30.336108 | X50: 117.1314 | AA50: II | AB50: 161.10465 | AC50: 150.08828
C51: III | D51: =Planilha2!F50 -> -0.84445637 | G51: III | H51: =Planilha3!F50 -> -0.40170631 | I51: =Planilha3!J50 -> 3.1669469 | L51: III | M51: =Planilha4!F50 -> -0.24633805 | N51: =Planilha4!J50 -> 2.7589502 | Q51: III | R51: =Planilha5!F50 -> -0.32404277 | S51: =Planilha5!J50 -> 2.9962972 | V51: III | W51: =Planilha7!C50 -> 29.140763 | X51: 116.80519 | AA51: III | AB51: 159.7442 | AC51: 150.80154
C52: IV | D52: =Planilha2!F51 -> 0.71887695 | G52: IV | H52: =Planilha3!F51 -> -0.09627628 | I52: =Planilha3!J51 -> 3.0048227 | L52: IV | M52: =Planilha4!F51 -> 0.8259982 | N52: =Planilha4!J51 -> 2.5287802 | Q52: IV | R52: =Planilha5!F51 -> -0.09627628 | S52: =Planilha5!J51 -> 3.0048227 | V52: IV | W52: =Planilha7!C51 -> 29.829739 | X52: 117.27435 | AA52: IV | AB52: 160.89256 | AC52: 151.04209
B53: 2014 | C53: I | D53: =Planilha2!F52 -> -0.32504765 | F53: 2014 | G53: I | H53: =Planilha3!F52 -> 0.2457868 | I53: =Planilha3!J52 -> 3.4693682 | K53: 2014 | L53: I | M53: =Planilha4!F52 -> 0.2457868 | N53: =Planilha4!J52 -> 3.4693682 | P53: 2014 | Q53: I | R53: =Planilha5!F52 -> 0.15084065 | S53: =Planilha5!J52 -> 3.1871247 | U53: 2014 | V53: I | W53: =Planilha7!C52 -> 29.559185 | X53: 118.86579 | Z53: 2014 | AA53: I | AB53: 160.36958 | AC53: 152.31254
C54: II | D54: =Planilha2!F53 -> 1.2638575 | G54: II | H54: =Planilha3!F53 -> 0.61708312 | I54: =Planilha3!J53 -> 1.4765868 | L54: II | M54: =Planilha4!F53 -> 0.95817897 | N54: =Planilha4!J53 -> -0.43527306 | Q54: II | R54: =Planilha5!F53 -> 0.45246447 | S54: =Planilha5!J53 -> 2.0632117 | V54: II | W54: =Planilha7!C53 -> 33.087372 | X54: 121.61706 | AA54: II | AB54: 162.39642 | AC54: 150.06837
C55: III | D55: =Planilha2!F54 -> 4.3294801 | G55: III | H55: =Planilha3!F54 -> 2.4458589 | I55: =Planilha3!J54 -> 0.75186253 | L55: III | M55: =Planilha4!F54 -> 6.0950787 | N55: =Planilha4!J54 -> -0.63879356 | Q55: III | R55: =Planilha5!F54 -> 2.0416479 | S55: =Planilha5!J54 -> 1.1928646 | V55: III | W55: =Planilha7!C54 -> 33.222129 | X55: 125.69842 | AA55: III | AB55: 169.42735 | AC55: 149.97894
C56: IV | D56: =Planilha2!F55 -> 0.65688953 | G56: IV | H56: =Planilha3!F55 -> 3.314313 | I56: =Planilha3!J55 -> 0.50395574 | L56: IV | M56: =Planilha4!F55 -> 5.90476 | N56: =Planilha4!J55 -> -0.22849946 | Q56: IV | R56: =Planilha5!F55 -> 3.314313 | S56: =Planilha5!J55 -> 0.50395574 | V56: IV | W56: =Planilha7!C55 -> 32.915096 | X56: 128.78378 | AA56: IV | AB56: 170.5403 | AC56: 150.7645
B57: 2015 | C57: I | D57: =Planilha2!F56 -> -1.1659793 | F57: 2015 | G57: I | H57: =Planilha3!F56 -> 5.050463 | I57: =Planilha3!J56 -> -1.6194084 | K57: 2015 | L57: I | M57: =Planilha4!F56 -> 5.050463 | N57: =Planilha4!J56 -> -1.6194084 | P57: 2015 | Q57: I | R57: =Planilha5!F56 -> 4.4623793 | S57: =Planilha5!J56 -> -0.72729815 | U57: 2015 | V57: I | W57: =Planilha7!C56 -> 30.959849 | X57: 130.18444 | Z57: 2015 | AA57: I | AB57: 168.55183 | AC57: 149.57176
C58: II | D58: =Planilha2!F57 -> -4.4592739 | G58: II | H58: =Planilha3!F57 -> 2.0304039 | I58: =Planilha3!J57 -> -2.1807276 | L58: II | M58: =Planilha4!F57 -> -0.72443269 | N58: =Planilha4!J57 -> -2.7403724 | Q58: II | R58: =Planilha5!F57 -> 4.0133164 | S58: =Planilha5!J57 -> -1.298779 | V58: II | W58: =Planilha7!C57 -> 31.451745 | X58: 128.54882 | AA58: II | AB58: 161.03564 | AC58: 146.04637
C59: III | D59: =Planilha2!F58 -> 2.1997879 | G59: III | H59: =Planilha3!F58 -> 0.34118789 | I59: =Planilha3!J58 -> -2.8842089 | L59: III | M59: =Planilha4!F58 -> -2.8555074 | N59: =Planilha4!J58 -> -4.2628414 | Q59: III | R59: =Planilha5!F58 -> 1.7129513 | S59: =Planilha5!J58 -> -2.2164038 | V59: III | W59: =Planilha7!C58 -> 30.155838 | X59: 125.48253 | AA59: III | AB59: 164.57809 | AC59: 143.64224
C60: IV | D60: =Planilha2!F59 -> -5.7354061 | G60: IV | H60: =Planilha3!F59 -> -2.1000851 | I60: =Planilha3!J59 -> -3.5457634 | L60: IV | M60: =Planilha4!F59 -> -9.144146 | N60: =Planilha4!J59 -> -5.5195712 | Q60: IV | R60: =Planilha5!F59 -> -2.1000851 | S60: =Planilha5!J59 -> -3.5457634 | V60: IV | W60: =Planilha7!C59 -> 27.798548 | X60: 120.36598 | AA60: IV | AB60: 155.13886 | AC60: 142.53952
B61: 2016 | C61: I | D61: =Planilha2!F60 -> -0.34626695 | F61: 2016 | G61: I | H61: =Planilha3!F60 -> -7.1684943 | I61: =Planilha3!J60 -> -5.1382372 | K61: 2016 | L61: I | M61: =Planilha4!F60 -> -7.1684943 | N61: =Planilha4!J60 -> -5.1382372 | P61: 2016 | Q61: I | R61: =Planilha5!F60 -> -4.9580824 | S61: =Planilha5!J60 -> -4.4140794 | U61: 2016 | V61: I | W61: =Planilha7!C60 -> 26.934937 | X61: 116.34107 | Z61: 2016 | AA61: I | AB61: 154.60167 | AC61: 140.49408
C62: II | D62: =Planilha2!F61 -> -1.906987 | G62: II | H62: =Planilha3!F61 -> -6.4083311 | I62: =Planilha3!J61 -> -4.182435 | L62: II | M62: =Planilha4!F61 -> -5.6745899 | N62: =Planilha4!J61 -> -3.2185004 | Q62: II | R62: =Planilha5!F61 -> -6.202303 | S62: =Planilha5!J61 -> -4.5423353 | V62: II | W62: =Planilha7!C61 -> 28.051535 | X62: 112.94086 | AA62: II | AB62: 151.65344 | AC62: 140.8786
C63: III | D63: =Planilha2!F62 -> 0.60923878 | G63: III | H63: =Planilha3!F62 -> -6.7206071 | I63: =Planilha3!J62 -> -3.6068039 | L63: III | M63: =Planilha4!F62 -> -7.3412847 | N63: =Planilha4!J62 -> -2.4541895 | Q63: III | R63: =Planilha5!F62 -> -7.3427852 | S63: =Planilha5!J62 -> -4.0975669 | V63: III | W63: =Planilha7!C62 -> 27.149204 | X63: 109.93422 | AA63: III | AB63: 152.57737 | AC63: 140.1192
C64: IV | D64: =Planilha2!F63 -> 1.5999511 | G64: IV | H64: =Planilha3!F63 -> -5.2366027 | I64: =Planilha3!J63 -> -3.2759169 | L64: IV | M64: =Planilha4!F63 -> -0.50761423 | N64: =Planilha4!J63 -> -2.2611485 | Q64: IV | R64: =Planilha5!F63 -> -5.2366027 | S64: =Planilha5!J63 -> -3.2759169 | V64: IV | W64: =Planilha7!C63 -> 27.128747 | X64: 109.26442 | AA64: IV | AB64: 155.01853 | AC64: 139.96436
B65: 2017 | C65: I | D65: =Planilha2!F64 -> -0.17012699 | F65: 2017 | G65: I | H65: =Planilha3!F64 -> -0.79780221 | I65: =Planilha3!J64 -> 0.28199644 | K65: 2017 | L65: I | M65: =Planilha4!F64 -> -0.79780221 | N65: =Planilha4!J64 -> 0.28199644 | P65: 2017 | Q65: I | R65: =Planilha5!F64 -> -3.7039602 | S65: =Planilha5!J64 -> -1.9359098 | U65: 2017 | V65: I | W65: =Planilha7!C64 -> 26.317881 | X65: 108.64737 | Z65: 2017 | AA65: I | AB65: 154.7548 | AC65: 141.40741
C66: II | D66: =Planilha2!F65 -> 0.94450288 | G66: II | H66: =Planilha3!F65 -> 1.2277738 | I66: =Planilha3!J65 -> 0.53619411 | L66: II | M66: =Planilha4!F65 -> 3.1519784 | N66: =Planilha4!J65 -> 0.78746948 | Q66: II | R66: =Planilha5!F65 -> -1.4569807 | S66: =Planilha5!J65 -> -0.93367262 | V66: II | W66: =Planilha7!C65 -> 29.331267 | X66: 109.9271 | AA66: II | AB66: 156.21647 | AC66: 142.58772
C67: III | D67: =Planilha2!F66 -> -1.8622075 | G67: III | H67: =Planilha3!F66 -> 0.86508137 | I67: =Planilha3!J66 -> 0.90847555 | L67: III | M67: =Planilha4!F66 -> 0.13693798 | N67: =Planilha4!J66 -> 1.6407059 | Q67: III | R67: =Planilha5!F66 -> 0.51952998 | S67: =Planilha5!J66 -> 0.10729637 | V67: III | W67: =Planilha7!C66 -> 28.308987 | X67: 111.08688 | AA67: III | AB67: 153.30739 | AC67: 142.9082
C68: IV | D68: =Planilha2!F67 -> 0.43570613 | G68: IV | H68: =Planilha3!F67 -> 0.47110689 | I68: =Planilha3!J67 -> 1.322869 | L68: IV | M68: =Planilha4!F67 -> -0.70594885 | N68: =Planilha4!J67 -> 2.5762391 | Q68: IV | R68: =Planilha5!F67 -> 0.47110689 | S68: =Planilha5!J67 -> 1.322869 | V68: IV | W68: =Planilha7!C67 -> 29.441802 | X68: 113.39994 | AA68: IV | AB68: 153.97536 | AC68: 143.68258
B69: 2018 | C69: I | D69: =Planilha2!F68 -> 2.1533676 | F69: 2018 | G69: I | H69: =Planilha3!F68 -> 1.5047801 | I69: =Planilha3!J68 -> 1.9049772 | K69: 2018 | L69: I | M69: =Planilha4!F68 -> 1.5047801 | N69: =Planilha4!J68 -> 1.9049772 | P69: 2018 | Q69: I | R69: =Planilha5!F68 -> 1.0311871 | S69: =Planilha5!J68 -> 1.7249591 | U69: 2018 | V69: I | W69: =Planilha7!C68 -> 30.806572 | X69: 117.88863 | Z69: 2018 | AA69: I | AB69: 157.29102 | AC69: 144.56375
C70: II | D70: =Planilha2!F69 -> 3.2240304 | G70: II | H70: =Planilha3!F69 -> 2.840811 | I70: =Planilha3!J69 -> 1.7598454 | L70: II | M70: =Planilha4!F69 -> 4.0613816 | N70: =Planilha4!J69 -> 1.6171014 | Q70: II | R70: =Planilha5!F69 -> 1.2873499 | S70: =Planilha5!J69 -> 1.932058 | V70: II | W70: =Planilha7!C69 -> 36.131536 | X70: 124.6889 | AA70: II | AB70: 162.36213 | AC70: 144.39949
C71: III | D71: =Planilha2!F70 -> -2.3583799 | G71: III | H71: =Planilha3!F70 -> 3.0501034 | I71: =Planilha3!J70 -> 1.8606628 | L71: III | M71: =Planilha4!F70 -> 3.4748572 | N71: =Planilha4!J70 -> 2.056803 | Q71: III | R71: =Planilha5!F70 -> 2.1142466 | S71: =Planilha5!J70 -> 2.0372582 | V71: III | W71: =Planilha7!C70 -> 34.965728 | X71: 131.34564 | AA71: III | AB71: 158.53301 | AC71: 145.77931
C72: IV | D72: =Planilha2!F71 -> -0.21240881 | G72: IV | H72: =Planilha3!F71 -> 3.0465736 | I72: =Planilha3!J71 -> 1.7836668 | L72: IV | M72: =Planilha4!F71 -> 3.0358611 | N72: =Planilha4!J71 -> 1.5545718 | Q72: IV | R72: =Planilha5!F71 -> 3.0465736 | S72: =Planilha5!J71 -> 1.7836668 | V72: IV | W72: =Planilha7!C71 -> 35.116219 | X72: 137.02005 | AA72: IV | AB72: 158.19627 | AC72: 145.41368
B73: 2019 | C73: I | D73: =Planilha2!F72 -> -0.46391895 | F73: 2019 | G73: I | H73: =Planilha3!F72 -> -0.40323668 | I73: =Planilha3!J72 -> 0.9013223 | K73: 2019 | L73: I | M73: =Planilha4!F72 -> -0.40323668 | N73: =Planilha4!J72 -> 0.9013223 | P73: 2019 | Q73: I | R73: =Planilha5!F72 -> 2.5767884 | S73: =Planilha5!J72 -> 1.5346871 | U73: 2019 | V73: I | W73: =Planilha7!C72 -> 33.677132 | X73: 139.89062 | Z73: 2019 | AA73: I | AB73: 157.46237 | AC73: 145.84623
C74: II | D74: =Planilha2!F73 -> -4.1750065 | G74: II | H74: =Planilha3!F73 -> -3.8595811 | I74: =Planilha3!J73 -> 1.0378664 | L74: II | M74: =Planilha4!F73 -> -6.9396495 | N74: =Planilha4!J73 -> 1.1725444 | Q74: II | R74: =Planilha5!F73 -> -0.37944643 | S74: =Planilha5!J73 -> 1.4234002 | V74: II | W74: =Planilha7!C73 -> 35.464156 | X74: 139.22324 | AA74: II | AB74: 150.88831 | AC74: 146.68777
C75: III | D75: =Planilha2!F74 -> 1.5226421 | G75: III | H75: =Planilha3!F74 -> -3.5594672 | I75: =Planilha3!J74 -> 1.0622513 | L75: III | M75: =Planilha4!F74 -> -2.9541254 | N75: =Planilha4!J74 -> 1.1095541 | Q75: III | R75: =Planilha5!F74 -> -1.9615616 | S75: =Planilha5!J74 -> 1.1843917 | V75: III | W75: =Planilha7!C74 -> 34.482813 | X75: 138.74032 | AA75: III | AB75: 153.1858 | AC75: 146.71701
C76: IV | D76: =Planilha2!F75 -> -1.1369459 | G76: IV | H76: =Planilha3!F75 -> -3.7557636 | I76: =Planilha3!J75 -> 1.2207778 | L76: IV | M76: =Planilha4!F75 -> -4.3515891 | N76: =Planilha4!J75 -> 1.6938812 | Q76: IV | R76: =Planilha5!F75 -> -3.7557636 | S76: =Planilha5!J75 -> 1.2207778 | V76: IV | W76: =Planilha7!C75 -> 33.721494 | X76: 137.3456 | AA76: IV | AB76: 151.44416 | AC76: 148.00723
B77: 2020 | C77: I | D77: =Planilha2!F76 -> -0.75698068 | F77: 2020 | G77: I | H77: =Planilha3!F76 -> -3.588023 | I77: =Planilha3!J76 -> 0.41397514 | K77: 2020 | L77: I | M77: =Planilha4!F76 -> -3.588023 | N77: =Planilha4!J76 -> 0.41397514 | P77: 2020 | Q77: I | R77: =Planilha5!F76 -> -4.5113237 | S77: =Planilha5!J76 -> 1.0996572 | U77: 2020 | V77: I | W77: =Planilha7!C76 -> 32.413267 | X77: 136.08173 | Z77: 2020 | AA77: I | AB77: 150.29775 | AC77: 144.61843
C78: II | D78: =Planilha2!F77 -> -12.372102 | G78: II | H78: =Planilha3!F77 -> -8.1770614 | I78: =Planilha3!J77 -> -4.9052474 | L78: II | M78: =Planilha4!F77 -> -12.553749 | N78: =Planilha4!J77 -> -10.137705 | Q78: II | R78: =Planilha5!F77 -> -5.8823813 | S78: =Planilha5!J77 -> -1.7328038 | V78: II | W78: =Planilha7!C77 -> 31.373953 | X78: 131.99153 | AA78: II | AB78: 131.70276 | AC78: 131.7752
C79: III | D79: =Planilha2!F78 -> 12.503572 | G79: III | H79: =Planilha3!F78 -> -6.4940904 | I79: =Planilha3!J78 -> -4.2690096 | L79: III | M79: =Planilha4!F78 -> -3.1311437 | N79: =Planilha4!J78 -> -3.0356861 | Q79: III | R79: =Planilha5!F78 -> -5.9485489 | S79: =Planilha5!J78 -> -2.7842566 | V79: III | W79: =Planilha7!C78 -> 35.331757 | X79: 132.84047 | AA79: III | AB79: 148.17031 | AC79: 142.21742
C80: IV | D80: =Planilha2!F79 -> 4.3574832 | G80: IV | H80: =Planilha3!F79 -> -4.431105 | I80: =Planilha3!J79 -> -3.2767588 | L80: IV | M80: =Planilha4!F79 -> 1.8826042 | N80: =Planilha4!J79 -> -0.33389685 | Q80: IV | R80: =Planilha5!F79 -> -4.431105 | S80: =Planilha5!J79 -> -3.2767588 | V80: IV | W80: =Planilha7!C79 -> 39.326945 | X80: 138.44592 | AA80: IV | AB80: 154.62681 | AC80: 147.67643
B81: 2021 | C81: I | D81: =Planilha2!F80 -> -0.41238913 | F81: 2021 | G81: I | H81: =Planilha3!F80 -> 1.0357553 | I81: =Planilha3!J80 -> 1.7497828 | K81: 2021 | L81: I | M81: =Planilha4!F80 -> 1.0357553 | N81: =Planilha4!J80 -> 1.7497828 | P81: 2021 | Q81: I | R81: =Planilha5!F80 -> -3.3357352 | S81: =Planilha5!J80 -> -2.9452069 | U81: 2021 | V81: I | W81: =Planilha7!C80 -> 41.237873 | X81: 147.27053 | Z81: 2021 | AA81: I | AB81: 153.98914 | AC81: 148.96856
C82: II | D82: =Planilha2!F81 -> -0.98023492 | G82: II | H82: =Planilha3!F81 -> 8.3977096 | I82: =Planilha3!J81 -> 6.8216178 | L82: II | M82: =Planilha4!F81 -> 16.138883 | N82: =Planilha4!J81 -> 12.396547 | Q82: II | R82: =Planilha5!F81 -> 3.7020711 | S82: =Planilha5!J81 -> 2.40166 | V82: II | W82: =Planilha7!C81 -> 47.937857 | X82: 163.83443 | AA82: II | AB82: 152.47969 | AC82: 147.93127
C83: III | D83: =Planilha2!F82 -> 2.5746557 | G83: III | H83: =Planilha3!F82 -> 7.4515077 | I83: =Planilha3!J82 -> 5.922417 | L83: III | M83: =Planilha4!F82 -> 5.6592759 | N83: =Planilha4!J82 -> 4.2129573 | Q83: III | R83: =Planilha5!F82 -> 6.00943 | S83: =Planilha5!J82 -> 4.2928429 | V83: III | W83: =Planilha7!C82 -> 48.609389 | X83: 177.11206 | AA83: III | AB83: 156.40551 | AC83: 148.14734
C84: IV | D84: =Planilha2!F83 -> 0.86084778 | G84: IV | H84: =Planilha3!F83 -> 5.953693 | I84: =Planilha3!J83 -> 4.7626044 | L84: IV | M84: =Planilha4!F83 -> 1.7465669 | N84: =Planilha4!J83 -> 1.4585946 | Q84: IV | R84: =Planilha5!F83 -> 5.953693 | S84: =Planilha5!J83 -> 4.7626044 | V84: IV | W84: =Planilha7!C83 -> 48.551386 | X84: 186.3365 | AA84: IV | AB84: 157.75193 | AC84: 150.12419
B85: 2022 | C85: I | D85: =Planilha2!F84 -> 0.047516077 | F85: 2022 | G85: I | H85: =Planilha3!F84 -> 2.2691289 | I85: =Planilha3!J84 -> 1.4733785 | K85: 2022 | L85: I | M85: =Planilha4!F84 -> 2.2691289 | N85: =Planilha4!J84 -> 1.4733785 | P85: 2022 | Q85: I | R85: =Planilha5!F84 -> 6.2486097 | S85: =Planilha5!J84 -> 4.6781612 | U85: 2022 | V85: I | W85: =Planilha7!C84 -> 45.018892 | X85: 190.11752 | Z85: 2022 | AA85: I | AB85: 157.82689 | AC85: 151.1617
C86: II | D86: =Planilha2!F85 -> -1.6113523 | G86: II | H86: =Planilha3!F85 -> 2.2658792 | I86: =Planilha3!J85 -> 2.5111728 | L86: II | M86: =Planilha4!F85 -> 2.2629065 | N86: =Planilha4!J85 -> 3.5438535 | Q86: II | R86: =Planilha5!F85 -> 2.9658359 | S86: =Planilha5!J85 -> 2.6667281 | V86: II | W86: =Planilha7!C85 -> 48.986984 | X86: 191.16665 | AA86: II | AB86: 155.28374 | AC86: 152.88898
C87: III | D87: =Planilha2!F86 -> -4.0508174 | G87: III | H87: =Planilha3!F86 -> -0.10060718 | I87: =Planilha3!J86 -> 3.1252249 | L87: III | M87: =Planilha4!F86 -> -4.6992201 | N87: =Planilha4!J86 -> 4.3218132 | Q87: III | R87: =Planilha5!F86 -> 0.3591011 | S87: =Planilha5!J86 -> 2.710378 | V87: III | W87: =Planilha7!C86 -> 44.415434 | X87: 186.9727 | AA87: III | AB87: 148.99348 | AC87: 154.50123
C88: IV | D88: =Planilha2!F87 -> -0.32745312 | G88: IV | H88: =Planilha3!F87 -> -1.6970014 | I88: =Planilha3!J87 -> 3.0166944 | L88: IV | M88: =Planilha4!F87 -> -6.4324415 | N88: =Planilha4!J87 -> 2.693916 | Q88: IV | R88: =Planilha5!F87 -> -1.6970014 | S88: =Planilha5!J87 -> 3.0166944 | V88: IV | W88: =Planilha7!C87 -> 44.12728 | X88: 182.54859 | AA88: IV | AB88: 148.50559 | AC88: 155.16438
B89: 2023 | C89: I | D89: =Planilha2!F88 -> 5.5332684 | F89: 2023 | G89: I | H89: =Planilha3!F88 -> -0.62447963 | I89: =Planilha3!J88 -> 4.4443397 | K89: 2023 | L89: I | M89: =Planilha4!F88 -> -0.62447963 | N89: =Planilha4!J88 -> 4.4443397 | P89: 2023 | Q89: I | R89: =Planilha5!F88 -> -2.3702546 | S89: =Planilha5!J88 -> 3.7520714 | U89: 2023 | V89: I | W89: =Planilha7!C88 -> 47.218284 | X89: 184.74798 | Z89: 2023 | AA89: I | AB89: 156.72281 | AC89: 157.22763
C90: II | D90: =Planilha2!F89 -> 0.50935699 | G90: II | H90: =Planilha3!F89 -> 0.71841461 | I90: =Planilha3!J89 -> 4.1435716 | L90: II | M90: =Planilha4!F89 -> 1.9469265 | N90: =Planilha4!J89 -> 3.85027 | Q90: II | R90: =Planilha5!F89 -> -2.4259229 | S90: =Planilha5!J89 -> 3.8279512 | V90: II | W90: =Planilha7!C89 -> 55.276007 | X90: 191.03701 | AA90: II | AB90: 157.52109 | AC90: 158.4743
C91: III | D91: =Planilha2!F90 -> 0.68351735 | G91: III | H91: =Planilha3!F90 -> 2.4463974 | I91: =Planilha3!J90 -> 3.5299749 | L91: III | M91: =Planilha4!F90 -> 6.0496653 | N91: =Planilha4!J90 -> 2.3550267 | Q91: III | R91: =Planilha5!F90 -> 0.20616188 | S91: =Planilha5!J90 -> 3.3244048 | V91: III | W91: =Planilha7!C90 -> 53.7524 | X91: 200.37397 | AA91: III | AB91: 158.59777 | AC91: 158.68993
C92: IV | D92: =Planilha2!F91 -> -0.14541616 | G92: IV | H92: =Planilha3!F91 -> 3.3922184 | I92: =Planilha3!J91 -> 3.2416553 | L92: IV | M92: =Planilha4!F91 -> 6.3877003 | N92: =Planilha4!J91 -> 2.3805688 | Q92: IV | R92: =Planilha5!F91 -> 3.3922184 | S92: =Planilha5!J91 -> 3.2416553 | V92: IV | W92: =Planilha7!C91 -> 53.583041 | X92: 209.82973 | AA92: IV | AB92: 158.36714 | AC92: 159.28573
B93: 2024 | C93: I | D93: =Planilha2!F92 -> 0.29378442 | F93: 2024 | G93: I | H93: =Planilha3!F92 -> 2.0475251 | I93: =Planilha3!J92 -> 2.4603302 | K93: 2024 | L93: I | M93: =Planilha4!F92 -> 2.0475251 | N93: =Planilha4!J92 -> 2.4603302 | P93: 2024 | Q93: I | R93: =Planilha5!F92 -> 4.0510419 | S93: =Planilha5!J92 -> 2.7563852 | U93: 2024 | V93: I | W93: =Planilha7!C92 -> 53.129886 | X93: 215.74133 | Z93: 2024 | AA93: I | AB93: 158.8324 | AC93: 160.33648
C94: II | D94: =Planilha2!F93 -> 0.77240161 | G94: II | H94: =Planilha3!F93 -> 2.0062427 | I94: =Planilha3!J93 -> 2.9706298 | L94: II | M94: =Planilha4!F93 -> 1.969429 | N94: =Planilha4!J93 -> 3.4711078 | Q94: II | R94: =Planilha5!F93 -> 4.0462242 | S94: =Planilha5!J93 -> 2.6705191 | V94: II | W94: =Planilha7!C93 -> 60.062254 | X94: 220.52758 | AA94: II | AB94: 160.05922 | AC94: 163.07437
C95: III | D95: =Planilha2!F94 -> 1.2586779 | G95: III | H95: =Planilha3!F94 -> 2.1736938 | I95: =Planilha3!J94 -> 3.3661035 | L95: III | M95: =Planilha4!F94 -> 2.5053169 | N95: =Planilha4!J94 -> 4.1366105 | Q95: III | R95: =Planilha5!F94 -> 3.1664979 | S95: =Planilha5!J94 -> 3.125259 | V95: III | W95: =Planilha7!C94 -> 58.034544 | X95: 224.80972 | AA95: III | AB95: 162.07385 | AC95: 164.53913
C96: IV | D96: =Planilha2!F95 -> -0.44213756 | G96: IV | H96: =Planilha3!F95 -> 2.1573617 | I96: =Planilha3!J95 -> 3.4193152 | L96: IV | M96: =Planilha4!F95 -> 2.107553 | N96: =Planilha4!J95 -> 3.5800198 | Q96: IV | R96: =Planilha5!F95 -> 2.1573617 | S96: =Planilha5!J95 -> 3.4193152 | V96: IV | W96: =Planilha7!C95 -> 57.316556 | X96: 228.54324 | AA96: IV | AB96: 161.35727 | AC96: 164.67288
B97: 2025 | C97: I | D97: =Planilha2!F96 -> 1.3193684 | F97: 2025 | G97: I | H97: =Planilha3!F96 -> 1.5191528 | I97: =Planilha3!J96 -> 3.1489268 | K97: 2025 | L97: I | M97: =Planilha4!F96 -> 1.5191528 | N97: =Planilha4!J96 -> 3.1489268 | P97: 2025 | Q97: I | R97: =Planilha5!F96 -> 2.0302597 | S97: =Planilha5!J96 -> 3.585936 | U97: 2025 | V97: I | W97: =Planilha7!C96 -> 56.511612 | X97: 231.92497 | Z97: 2025 | AA97: I | AB97: 163.48616 | AC97: 166.74049
C98: II | D98: =Planilha2!F97 -> 2.3409093 | G98: II | H98: =Planilha3!F97 -> 3.2278007 | I98: =Planilha3!J97 -> 2.7486025 | L98: II | M98: =Planilha4!F97 -> 4.7526533 | N98: =Planilha4!J97 -> 2.3598184 | Q98: II | R98: =Planilha5!F97 -> 2.7731905 | S98: =Planilha5!J97 -> 3.3009455 | V98: II | W98: =Planilha7!C97 -> 66.088534 | X98: 237.95125 | AA98: II | AB98: 167.31322 | AC98: 167.33953
C99: III | D99: =Planilha2!F98 -> 0.1429747 | G99: III | H99: =Planilha3!F98 -> 3.2827938 | I99: =Planilha3!J98 -> 2.4325399 | L99: III | M99: =Planilha4!F98 -> 3.391173 | N99: =Planilha4!J98 -> 1.8236454 | Q99: III | R99: =Planilha5!F98 -> 2.9972663 | S99: =Planilha5!J98 -> 2.7109355 | V99: III | W99: =Planilha7!C98 -> 62.822006 | X99: 242.73871 | AA99: III | AB99: 167.55244 | AC99: 167.52153
C100: IV | D100: =Planilha2!F99 -> 2.2321807 | G100: IV | H100: =Planilha3!F99 -> 3.9827002 | I100: =Planilha3!J99 -> 2.2857465 | L100: IV | M100: =Planilha4!F99 -> 6.1186162 | N100: =Planilha4!J99 -> 1.8433314 | Q100: IV | R100: =Planilha5!F99 -> 3.9827002 | S100: =Planilha5!J99 -> 2.2857465 | V100: IV | W100: =Planilha7!C99 -> 63.0198 | X100: 248.44195 | AA100: IV | AB100: 171.29251 | AC100: 167.93788
...

Sheet Planilha8
B2: Gráfico 1 - Variação (%) em relação ao trimestre anterior com ajuste sazonal

Sheet Planilha9
B2: Gráfico 2 - Variação (%) setorial em relação ao trimestre imediatamente anterior (com ajuste sazonal) - 2026.II

Sheet Planilha10
B2: Gráfico 3 - Variação (%) acumulada no ano em relação ao mesmo período do ano anterior

Sheet Planilha11
B2: Gráfico 4 - Variação (%) setorial acumulada no ano em relação ao mesmo período do ano anterior - 2026.II

Sheet Planilha12
B2: Gráfico 5 - Variação (%) em relação ao mesmo trimestre do ano anterior

Sheet Planilha13
B2: Gráfico 6 - Variação (%) setorial em relação ao mesmo trimestre do ano anterior - 2026.II

Sheet Planilha14
B2: Gráfico 7 - Variação (%) acumulada em quatro trimestres em relação a igual período anterior

Sheet Planilha15
B2: Gráfico 8 - Variação (%) setorial acumulada em quatro trimestres em relação a igual período anterior - 2026.II

Sheet Planilha16
B2: Gráfico 9 - PIB nominal trimestral do Espírito Santo (R$ Bilhões)

Sheet Planilha17
B2: Gráfico 10 - PIB Trimestral do Espírito Santo – Série dessazonalizada (Base 2002=100)

Sheet Planilha18
B2: Dicionário de dados
B3: Variável | C3: Unidade de medida | D3: Dimensão | E3: Polaridade | F3: Fonte | G3: Periodicidade | H3: Observações
B4: PIB nominal | C4: em R$ bilhões acumulado no trimestre em R$ bilhões acumulados em quatro trimestres | D4: Territorial (Espírito Santo) | E4: Quanto maior, melhor | F4: IJSN/IBGE | G4: Trimestral | H4: O Produto Interno Bruto (PIB) pela ótica da produção equivale ao total dos bens e serviços finais produzidos pelas unidades produtoras residentes, sendo, portanto, equivalente à soma dos valores adicionados brutos das diversas atividades econômicas acrescida dos impostos, líquidos de subsídios, sobre os produtos.
B5: PIB (variação em volume) | C5: Variação (%) em relação ao trimestre imediatamente anterior (com ajuste sazonal) Variação (%) em relação ao mesmo trimestre do ano anterior Variação (%) acumulada ao longo do ano em relação a igual período do ano anterior Variação (%) acumulada em quatro trimestres em relação a igual período anterior | D5: Territorial (Brasil e Espírito Santo) | E5: Quanto maior, melhor | F5: IJSN/IBGE | G5: Trimestral | H5: Quando o PIB é mensurado a preços do ano anterior (ou a preços constantes), obtém-se a medida de volume (PIB real), livre dos efeitos da inflação.
B6: Valor Adicionado Bruto (variação em volume) | C6: Variação (%) em relação ao trimestre imediatamente anterior (com ajuste sazonal) Variação (%) em relação ao mesmo trimestre do ano anterior Variação (%) acumulada ao longo do ano em relação a igual período do ano anterior Variação (%) acumulada em quatro trimestres em relação a igual período anterior | D6: Territorial (Brasil e Espírito Santo) Setorial (Agropecuária, Indústria e Serviços) | E6: Quanto maior, melhor | F6: IJSN/IBGE | G6: Trimestral | H6: Valor Adicionado Bruto (VAB) é o valor que a atividade agrega aos bens e serviços consumidos no seu processo produtivo. É a contribuição ao produto interno bruto pelas diversas atividades econômicas, obtida pela diferença entre o valor bruto da produção e o consumo intermediário absorvido por essas atividades. Quando mensurado a preços do ano anterior (ou a preços constantes), obtém-se a medida de volume (VAB real), livre dos efeitos da inflação.

Sheet Planilha24
B2: Tabela 2 - PIB Nominal Anual do Espírito Santo (R$ bilhões)
B3: Ano | C3: Valor R$ Bilhões
B4: 2002* | C4: 27.048997
B5: 2003* | C5: 31.519106
B6: 2004* | C6: 39.732638
B7: 2005* | C7: 47.020588
B8: 2006* | C8: 53.463868
B9: 2007* | C9: 60.658395
B10: 2008* | C10: 72.091158
B11: 2009* | C11: 69.215361
B12: 2010* | C12: 85.310285
B13: 2011* | C13: 105.97622
B14: 2012* | C14: 116.85058
B15: 2013* | C15: 117.27435
... B26: 2024** | C26: 206.23414
B27: * Contas Regionais IBGE/IJSN
B28: ** Indicador do PIB Trimestral
B29: *** Indicador do PIB Trimestral acumulado nos últimos quatro trimestres
B30: Elaboração: Coordenação de Estudos Econômicos (CEE/IJSN)

Sheet Planilha25
B2: Tabela 3 - Indicador do PIB Trimestral do Estado do Espírito Santo
C3: Série encadeada (antes do benchmark) | D3: Série encadeada e ajustada ao benchmark anual | E3: Variação em relação ao mesmo trimestre do ano anterior ( % ) | F3: Taxa acumulada em quatro trimestres (em relação ao mesmo período do ano anterior) ( % ) | G3: Série encadeada do Índice Trimestral com ajuste sazonal | H3: Trimestre contra trimestre imediatamente anterior com ajuste sazonal (%)
B4: 2002.I | C4: 94.058082 | D4: 94.010364 | G4: 97.560854
B5: 2002.II | C5: 102.3036 | D5: 102.25761 | G5: 98.836366 | H5: 1.3074017
B6: 2002.III | C6: 100.07721 | D6: 100.04428 | G6: 100.48029 | H6: 1.6632779
B7: 2002.IV | C7: 103.70301 | D7: 103.68776 | G7: 103.2896 | H7: 2.7958854
B8: 2003.I | C8: 99.793168 | D8: 99.802994 | E8: 6.1616928 | G8: 103.04454 | H8: -0.23725423
B9: 2003.II | C9: 103.91983 | D9: 103.9844 | E9: 1.6886751 | G9: 101.02738 | H9: -1.957566
B10: 2003.III | C10: 103.52532 | D10: 103.67367 | E10: 3.627791 | G10: 104.10364 | H10: 3.0449753
B11: 2003.IV | C11: 104.0219 | D11: 104.28533 | E11: 0.57631884 | F11: 2.9365994 | G11: 103.86999 | H11: -0.22444265
B12: 2004.I | C12: 102.7301 | D12: 103.13289 | E12: 3.3364703 | F12: 2.2877856 | G12: 105.45556 | H12: 1.5265039
B13: 2004.II | C13: 110.15705 | D13: 110.54092 | E13: 6.3052877 | F13: 3.4632416 | G13: 107.29612 | H13: 1.7453343
B14: 2004.III | C14: 107.07063 | D14: 107.18757 | E14: 3.3893825 | F14: 3.404578 | G14: 107.54226 | H14: 0.22940779
B15: 2004.IV | C15: 108.80123 | D15: 108.45285 | E15: 3.9962707 | F15: 4.2666638 | G15: 108.03271 | H15: 0.45604907
B16: 2005.I | C16: 107.50329 | D16: 106.4897 | E16: 3.2548363 | F16: 4.238918 | G16: 111.00157 | H16: 2.7481095
B17: 2005.II | C17: 115.3196 | D17: 113.84561 | E17: 2.9895608 | F17: 3.4017552 | G17: 109.75275 | H17: -1.1250395
B18: 2005.III | C18: 112.0196 | D18: 110.55742 | E18: 3.1438845 | F18: 3.3397582 | G18: 110.70426 | H18: 0.86695361
B19: 2005.IV | C19: 114.81155 | D19: 113.62556 | E19: 4.7695458 | F19: 3.5414751 | G19: 113.22041 | H19: 2.2728588
B20: 2006.I | C20: 112.71131 | D20: 112.19979 | E20: 5.3621054 | F20: 4.0578958 | G20: 116.72948 | H20: 3.0993226
B21: 2006.II | C21: 123.59543 | D21: 123.5666 | E21: 8.5387485 | F21: 5.4988478 | G21: 119.66503 | H21: 2.5148315
B22: 2006.III | C22: 121.53786 | D22: 121.83464 | E22: 10.200325 | F22: 7.2564755 | G22: 121.62548 | H22: 1.6382844
... B95: 2024.IV | C95: 164.29811 | D95: 160.88598 | E95: 1.4145045 | F95: 2.6085851 | G95: 163.45358 | H95: -0.8935924
B96: Elaboração: Coordenação de Estudos Econômicos (CEE/IJSN)
