Workbook

Sheet Capa
C9: GOVERNO DO ESTADO DO ESPÍRITO SANTO
C10: Ricardo de Rezende Ferraço
C12: VICE-GOVERNADORIA
C15: SECRETARIA DE ECONOMIA E PLANEJAMENTO – SEP
C16: Álvaro Rogério Duboc Fajardo
C18: INSTITUTO JONES DOS SANTOS NEVES – IJSN
C20: Diretor Presidente | H20: Diretoria de Estudos e Pesquisas
C21: Antônio Ricardo F. da Rocha | H21: Pablo Medeiros Jabor
C23: Diretoria de Integração e Projetos Especiais | H23: Diretoria de Gestão Administrativa
C24: Wilton Pires Júnior | H24: Katia Cesconeto de Paula
C26: Coordenação Geral
C27: Edna Morais Tresinari
C29: Elaboração
C30: Adriano do Carmo Santos

Sheet Sumário
B1: Sumário
B5: Planilha1 | C5: =Planilha1!B2 -> Tabela 1 - Variação em volume do PIB a preços de mercado
B6: Planilha2 | C6: =Planilha2!B1 -> Tabela 2 - Variação (%) em relação ao trimestre imediatamente anterior (com ajuste para sazonalidade)
B7: Planilha3 | C7: =Planilha3!B1 -> Tabela 3 - Variação (%) acumulada ao longo do ano
B8: Planilha4 | C8: =Planilha4!B1 -> Tabela 4 - Variação (%) em relação ao mesmo trimestre do ano anterior
B9: Planilha5 | C9: =Planilha5!B1 -> Tabela 5 - Variação (%) acumulada em quatro trimestres em relação a igual período anterior
B10: Planilha6 | C10: =Planilha6!B2 -> Tabela 6 - Taxas de Variação - Brasil e Espírito Santo (II Trimestre de 2026)
B11: Planilha7 | C11: =Planilha7!B2 -> Tabela 7 - PIB Nominal Trimestral do Espírito Santo (R$ bilhões)
B12: Planilha8 | C12: =Planilha8!B2 -> Gráfico 1 - Variação (%) em relação ao trimestre anterior com ajuste sazonal
B13: Planilha9 | C13: =Planilha9!B2 -> Gráfico 2 - Variação (%) setorial em relação ao trimestre imediatamente anterior (com ajuste sazonal) - 2026.II
B14: Planilha10 | C14: =Planilha10!B2 -> Gráfico 3 - Variação (%) acumulada no ano em relação ao mesmo período do ano anterior
B15: Planilha11 | C15: =Planilha11!B2 -> Gráfico 4 - Variação (%) setorial acumulada no ano em relação ao mesmo período do ano anterior - 2026.II
B16: Planilha12 | C16: =Planilha12!B2 -> Gráfico 5 - Variação (%) em relação ao mesmo trimestre do ano anterior
B17: Planilha13 | C17: =Planilha13!B2 -> Gráfico 6 - Variação (%) setorial em relação ao mesmo trimestre do ano anterior - 2026.II
B18: Planilha14 | C18: =Planilha14!B2 -> Gráfico 7 - Variação (%) acumulada em quatro trimestres em relação a igual período anterior
B19: Planilha15 | C19: =Planilha15!B2 -> Gráfico 8 - Variação (%) setorial acumulada em quatro trimestres em relação a igual período anterior - 2026.II
B20: Planilha16 | C20: =Planilha16!B2 -> Gráfico 9 - PIB nominal trimestral do Espírito Santo (R$ Bilhões)
B21: Planilha17 | C21: =Planilha17!B2 -> Gráfico 10 - PIB Trimestral do Espírito Santo – Série dessazonalizada (Base 2002=100)

Sheet Planilha1
B2: Tabela 1 - Variação em volume do PIB a preços de mercado
B3: Taxas (%) | C3: 2002.I | D3: 2002.II | E3: 2002.III | F3: 2002.IV | G3: 2003.I | H3: 2003.II | I3: 2003.III | J3: 2003.IV | K3: 2004.I | L3: 2004.II | M3: 2004.III | N3: 2004.IV | O3: 2005.I | P3: 2005.II | Q3: 2005.III | R3: 2005.IV | S3: 2006.I | T3: 2006.II | U3: 2006.III | V3: 2006.IV | W3: 2007.I | X3: 2007.II | Y3: 2007.III | Z3: 2007.IV | AA3: 2008.I | AB3: 2008.II | AC3: 2008.III | AD3: 2008.IV | AE3: 2009.I | AF3: 2009.II | AG3: 2009.III | AH3: 2009.IV | AI3: 2010.I | AJ3: 2010.II | AK3: 2010.III | AL3: 2010.IV | AM3: 2011.I | AN3: 2011.II | AO3: 2011.III | AP3: 2011.IV | AQ3: 2012.I | AR3: 2012.II | AS3: 2012.III | AT3: 2012.IV | AU3: 2013.I | AV3: 2013.II | AW3: 2013.III | AX3: 2013.IV | AY3: 2014.I | AZ3: 2014.II | BA3: 2014.III | BB3: 2014.IV | BC3: 2015.I | BD3: 2015.II | BE3: 2015.III | BF3: 2015.IV | BG3: 2016.I | BH3: 2016.II | BI3: 2016.III | BJ3: 2016.IV | BK3: 2017.I | BL3: 2017.II | BM3: 2017.III | BN3: 2017.IV | BO3: 2018.I | BP3: 2018.II | BQ3: 2018.III | BR3: 2018.IV | BS3: 2019.I | BT3: 2019.II | BU3: 2019.III | BV3: 2019.IV | BW3: 2020.I | BX3: 2020.II | BY3: 2020.III | BZ3: 2020.IV | CA3: 2021.I | CB3: 2021.II | CC3: 2021.III | CD3: 2021.IV | CE3: 2022.I | CF3: 2022.II | CG3: 2022.III | CH3: 2022.IV | CI3: 2023.I | CJ3: 2023.II | CK3: 2023.III | CL3: 2023.IV | CM3: 2024.I | CN3: 2024.II | CO3: 2024.III | CP3: 2024.IV | CQ3: 2025.I | CR3: 2025.II | CS3: 2025.III | CT3: 2025.IV | CU3: 2026.I | CV3: 2026.II
BL4: 2017.II | BM4: 2017.II | BN4: 2017.II | BO4: 2017.II | BP4: 2017.II | BQ4: 2017.II
B6: Acumulado ao longo do ano / mesmo período do ano anterior | G6: 6.1616928 | H6: 3.8312051 | I6: 3.7625262 | J6: 2.9365994 | K6: 3.3364703 | L6: 4.8513368 | M6: 4.3583763 | N6: 4.2666638 | O6: 3.2548363 | P6: 3.1176 | Q6: 3.1263807 | R6: 3.5414751 | S6: 5.3621054 | T6: 7.0034532 | U6: 8.0715875 | V6: 8.5275605 | W6: 6.9062243 | X6: 6.7475045 | Y6: 6.6434807 | Z6: 7.1185821 | AA6: 12.255683 | AB6: 12.653898 | AC6: 12.699657 | AD6: 8.6232967 | AE6: -14.035444 | AF6: -13.313361 | AG6: -11.234057 | AH6: -6.9248585 | AI6: 22.793438 | AJ6: 20.067528 | AK6: 17.660602 | AL6: 15.229842 | AM6: 11.353226 | AN6: 10.648967 | AO6: 8.4430829 | AP6: 7.4069711 | AQ6: -2.4487181 | AR6: -1.5441828 | AS6: -0.93957884 | AT6: -0.72950883 | AU6: -0.78235126 | AV6: -0.4793859 | AW6: -0.40170631 | AX6: -0.09627628 | AY6: 0.2457868 | AZ6: 0.61708312 | BA6: 2.4458589 | BB6: 3.314313 | BC6: 5.050463 | BD6: 2.0304039 | BE6: 0.34118789 | BF6: -2.1000851 | BG6: -7.1684943 | BH6: -6.4083311 | BI6: -6.7206071 | BJ6: -5.2366027 | BK6: -0.79780221 | BL6: 1.2277738 | BM6: 0.86508137 | BN6: 0.47110689 | BO6: 1.5047801 | BP6: 2.840811 | BQ6: 3.0501034 | BR6: 3.0465736 | BS6: -0.40323668 | BT6: -3.8595811 | BU6: -3.5594672 | BV6: -3.7557636 | BW6: -3.588023 | BX6: -8.1770614 | BY6: -6.4940904 | BZ6: -4.431105 | CA6: 1.0357553 | CB6: 8.3977096 | CC6: 7.4515077 | CD6: 5.953693 | CE6: 2.2691289 | CF6: 2.2658792 | CG6: -0.10060718 | CH6: -1.6970014 | CI6: -0.62447963 | CJ6: 0.71841461 | CK6: 2.4463974 | CL6: 3.3922184 | CM6: 2.0475251 | CN6: 2.0062427 | CO6: 2.1736938 | CP6: 2.1573617 | CQ6: 1.5191528 | CR6: 3.2278007 | CS6: 3.2827938 | CT6: 3.9827002 | CU6: 4.9438852 | CV6: 4.7998267
B7: Últimos quatro trimestres / quatro trimestres imediatamente anteriores | J7: 2.9365994 | K7: 2.2877856 | L7: 3.4632416 | M7: 3.404578 | N7: 4.2666638 | O7: 4.238918 | P7: 3.4017552 | Q7: 3.3397582 | R7: 3.5414751 | S7: 4.0578958 | T7: 5.4988478 | U7: 7.2564755 | V7: 8.5275605 | W7: 8.8722184 | X7: 8.3452302 | Y7: 7.4179653 | Z7: 7.1185821 | AA7: 8.4242713 | AB7: 10.08966 | AC7: 11.659015 | AD7: 8.6232967 | AE7: 2.0628203 | AF7: -4.5625157 | AG7: -9.2271478 | AH7: -6.9248585 | AI7: 1.1818788 | AJ7: 9.2050378 | AK7: 14.967054 | AL7: 15.229842 | AM7: 12.63075 | AN7: 10.786197 | AO7: 8.4926745 | AP7: 7.4069711 | AQ7: 3.9762238 | AR7: 1.2826877 | AS7: 0.3310878 | AT7: -0.72950883 | AU7: -0.3188599 | AV7: -0.18956243 | AW7: -0.32404277 | AX7: -0.09627628 | AY7: 0.15084065 | AZ7: 0.45246447 | BA7: 2.0416479 | BB7: 3.314313 | BC7: 4.4623793 | BD7: 4.0133164 | BE7: 1.7129513 | BF7: -2.1000851 | BG7: -4.9580824 | BH7: -6.202303 | BI7: -7.3427852 | BJ7: -5.2366027 | BK7: -3.7039602 | BL7: -1.4569807 | BM7: 0.51952998 | BN7: 0.47110689 | BO7: 1.0311871 | BP7: 1.2873499 | BQ7: 2.1142466 | BR7: 3.0465736 | BS7: 2.5767884 | BT7: -0.37944643 | BU7: -1.9615616 | BV7: -3.7557636 | BW7: -4.5113237 | BX7: -5.8823813 | BY7: -5.9485489 | BZ7: -4.431105 | CA7: -3.3357352 | CB7: 3.7020711 | CC7: 6.00943 | CD7: 5.953693 | CE7: 6.2486097 | CF7: 2.9658359 | CG7: 0.3591011 | CH7: -1.6970014 | CI7: -2.3702546 | CJ7: -2.4259229 | CK7: 0.20616188 | CL7: 3.3922184 | CM7: 4.0510419 | CN7: 4.0462242 | CO7: 3.1664979 | CP7: 2.1573617 | CQ7: 2.0302597 | CR7: 2.7731905 | CS7: 2.9972663 | CT7: 3.9827002 | CU7: 4.790214 | CV7: 4.7686772
B8: Trimestre / mesmo trimestre do ano anterior | G8: 6.1616928 | H8: 1.6886751 | I8: 3.627791 | J8: 0.57631884 | K8: 3.3364703 | L8: 6.3052877 | M8: 3.3893825 | N8: 3.9962707 | O8: 3.2548363 | P8: 2.9895608 | Q8: 3.1438845 | R8: 4.7695458 | S8: 5.3621054 | T8: 8.5387485 | U8: 10.200325 | V8: 9.8554143 | W8: 6.9062243 | X8: 6.6033853 | Y8: 6.4421805 | Z8: 8.4796746 | AA8: 12.255683 | AB8: 13.016508 | AC8: 12.788461 | AD8: -2.8571758 | AE8: -14.035444 | AF8: -12.660267 | AG8: -7.2035965 | AH8: 7.1549117 | AI8: 22.793438 | AJ8: 17.640871 | AK8: 13.302269 | AL8: 8.6506072 | AM8: 11.353226 | AN8: 9.9945629 | AO8: 4.210287 | AP8: 4.3700123 | AQ8: -2.4487181 | AR8: -0.69329762 | AS8: 0.29225566 | AT8: -0.089740926 | AU8: -0.78235126 | AV8: -0.19942791 | AW8: -0.24633805 | AX8: 0.8259982 | AY8: 0.2457868 | AZ8: 0.95817897 | BA8: 6.0950787 | BB8: 5.90476 | BC8: 5.050463 | BD8: -0.72443269 | BE8: -2.8555074 | BF8: -9.144146 | BG8: -7.1684943 | BH8: -5.6745899 | BI8: -7.3412847 | BJ8: -0.50761423 | BK8: -0.79780221 | BL8: 3.1519784 | BM8: 0.13693798 | BN8: -0.70594885 | BO8: 1.5047801 | BP8: 4.0613816 | BQ8: 3.4748572 | BR8: 3.0358611 | BS8: -0.40323668 | BT8: -6.9396495 | BU8: -2.9541254 | BV8: -4.3515891 | BW8: -3.588023 | BX8: -12.553749 | BY8: -3.1311437 | BZ8: 1.8826042 | CA8: 1.0357553 | CB8: 16.138883 | CC8: 5.6592759 | CD8: 1.7465669 | CE8: 2.2691289 | CF8: 2.2629065 | CG8: -4.6992201 | CH8: -6.4324415 | CI8: -0.62447963 | CJ8: 1.9469265 | CK8: 6.0496653 | CL8: 6.3877003 | CM8: 2.0475251 | CN8: 1.969429 | CO8: 2.5053169 | CP8: 2.107553 | CQ8: 1.5191528 | CR8: 4.7526533 | CS8: 3.391173 | CT8: 6.1186162 | CU8: 4.9438852 | CV8: 4.6752326
B9: Trimestre / trimestre imediatamente anterior (com ajuste para sazonalidade) | D9: 2.1291651 | E9: 1.6578372 | F9: 2.4536472 | G9: -0.157715 | H9: -2.2100554 | I9: 3.5604341 | J9: -0.57216638 | K9: 1.5252324 | L9: 1.672146 | M9: 0.64814403 | N9: 0.054861227 | O9: 2.2824467 | P9: -0.082354873 | Q9: 0.77526268 | R9: 2.0315821 | S9: 2.350851 | T9: 3.1797162 | U9: 2.4627946 | V9: 1.5369802 | W9: -0.38651928 | X9: 2.9822519 | Y9: 2.0345312 | Z9: 3.3773023 | AA9: 2.3348476 | AB9: 4.8583359 | AC9: 1.214486 | AD9: -10.471303 | AE9: -8.4923764 | AF9: 5.3456908 | AG9: 7.4244765 | AH9: 3.6385758 | AI9: 4.6566477 | AJ9: 0.90015533 | AK9: 3.4737074 | AL9: -0.48294429 | AM9: 7.3113832 | AN9: -0.58620137 | AO9: -1.9421127 | AP9: 0.14024416 | AQ9: -1.0106183 | AR9: 1.9742585 | AS9: -0.53895639 | AT9: -0.81801276 | AU9: 0.1078542 | AV9: 0.8913346 | AW9: -0.84445637 | AX9: 0.71887695 | AY9: -0.32504765 | AZ9: 1.2638575 | BA9: 4.3294801 | BB9: 0.65688953 | BC9: -1.1659793 | BD9: -4.4592739 | BE9: 2.1997879 | BF9: -5.7354061 | BG9: -0.34626695 | BH9: -1.906987 | BI9: 0.60923878 | BJ9: 1.5999511 | BK9: -0.17012699 | BL9: 0.94450288 | BM9: -1.8622075 | BN9: 0.43570613 | BO9: 2.1533676 | BP9: 3.2240304 | BQ9: -2.3583799 | BR9: -0.21240881 | BS9: -0.46391895 | BT9: -4.1750065 | BU9: 1.5226421 | BV9: -1.1369459 | BW9: -0.75698068 | BX9: -12.372102 | BY9: 12.503572 | BZ9: 4.3574832 | CA9: -0.41238913 | CB9: -0.98023492 | CC9: 2.5746557 | CD9: 0.86084778 | CE9: 0.047516077 | CF9: -1.6113523 | CG9: -4.0508174 | CH9: -0.32745312 | CI9: 5.5332684 | CJ9: 0.50935699 | CK9: 0.68351735 | CL9: -0.14541616 | CM9: 0.29378442 | CN9: 0.77240161 | CO9: 1.2586779 | CP9: -0.44213756 | CQ9: 1.3193684 | CR9: 2.3409093 | CS9: 0.1429747 | CT9: 2.2321807 | CU9: 0.26747981 | CV9: 1.9097192
B10: Elaboração: Coordenação de Estudos Econômicos (CEE/IJSN)

Sheet Planilha2
B1: Tabela 2 - Variação (%) em relação ao trimestre imediatamente anterior (com ajuste para sazonalidade)
C2: Espírito Santo | G2: Brasil
C3: Agropecuária | D3: Indústria | E3: Serviços | F3: PIB | G3: Agropecuária | H3: Indústria | I3: Serviços | J3: PIB
B4: 2002.I
B5: 2002.II | C5: -0.045752822 | D5: 3.9434943 | E5: 0.59160184 | F5: 2.1291651 | G5: 2.374276 | H5: 1.2550559 | I5: 0.74276374 | J5: 0.22391198
B6: 2002.III | C6: 4.3448745 | D6: 3.8678288 | E6: -1.0591393 | F6: 1.6578372 | G6: 7.0198245 | H6: 0.70987841 | I6: 1.0536919 | J6: 1.3960272
B7: 2002.IV | C7: 6.4245271 | D7: 5.8244843 | E7: 0.76156533 | F7: 2.4536472 | G7: 2.8456578 | H7: 3.0007358 | I7: 0.5596267 | J7: 1.0199473
B8: 2003.I | C8: 2.2806202 | D8: 0.74479821 | E8: -0.20359345 | F8: -0.157715 | G8: 2.3093868 | H8: -5.2697213 | I8: -0.51602578 | J8: -0.44207113
B9: 2003.II | C9: -16.770073 | D9: -1.6580956 | E9: -0.11354797 | F9: -2.2100554 | G9: -0.040006433 | H9: 0.83845723 | I9: -0.40678981 | J9: -0.84241955
B10: 2003.III | C10: 12.325306 | D10: 1.943952 | E10: 1.5821301 | F10: 3.5604341 | G10: -2.8808731 | H10: 3.4659908 | I10: 0.93853189 | J10: 0.93998475
B11: 2003.IV | C11: 4.4391778 | D11: -4.5115024 | E11: 2.1646713 | F11: -0.57216638 | G11: 1.7279071 | H11: 1.1604805 | I11: 0.99973448 | J11: 1.0399256
B12: 2004.I | C12: -4.8324356 | D12: 3.8661938 | E12: 0.33003131 | F12: 1.5252324 | G12: 1.1837567 | H12: 1.585197 | I12: 1.656641 | J12: 1.3800344
B13: 2004.II | C13: -1.064949 | D13: 2.4190825 | E13: 2.2904423 | F13: 1.672146 | G13: 1.7274712 | H13: 2.4841732 | I13: 1.6307802 | J13: 2.7602479
B14: 2004.III | C14: -5.3895763 | D14: -1.5950727 | E14: 1.0198431 | F14: 0.64814403 | G14: -0.0075416817 | H14: 3.6179886 | I14: 0.98345604 | J14: 1.27299
B15: 2004.IV | C15: 1.7697002 | D15: 0.059310899 | E15: 0.32446907 | F15: 0.054861227 | G15: -1.1750143 | H15: -0.17396917 | I15: 1.6545453 | J15: 0.75996062
B16: 2005.I | C16: 7.6572889 | D16: 3.7118853 | E16: 2.6445095 | F16: 2.2824467 | G16: 2.5259597 | H16: -1.1114662 | I16: 0.060967993 | J16: 0.88552392
... B101: 2026.II | C101: 4.8963897 | D101: 2.9190555 | E101: 1.2041981 | F101: 1.9097192 | G101: 2.8213171 | H101: 0.12142255 | I101: 0.18578936 | J101: 0.47884015
B102: Elaboração: Coordenação de Estudos Econômicos (CEE/IJSN)

Sheet Planilha3
B1: Tabela 3 - Variação (%) acumulada ao longo do ano
C2: Espírito Santo | G2: Brasil
C3: Agropecuária | D3: Indústria | E3: Serviços | F3: PIB | G3: Agropecuária | H3: Indústria | I3: Serviços | J3: PIB
B4: 2002.I
B5: 2002.II
B6: 2002.III
B7: 2002.IV
B8: 2003.I | C8: 13.16117 | D8: 16.991449 | E8: 0.11853997 | F8: 6.1616928 | G8: 15.371846 | H8: 0.069242304 | I8: 1.8306206 | J8: 2.6670284
B9: 2003.II | C9: -1.116294 | D9: 12.083192 | E9: -0.26019213 | F9: 3.8312051 | G9: 14.397391 | H9: -1.0090481 | I9: 1.3539401 | J9: 1.7041719
B10: 2003.III | C10: -0.33803756 | D10: 10.225604 | E10: 0.50211514 | F10: 3.7625262 | G10: 10.09692 | H10: 0.024055116 | I10: 1.0496453 | J10: 1.3313601
B11: 2003.IV | C11: -0.52086877 | D11: 6.5454962 | E11: 1.2528262 | F11: 2.9365994 | G11: 8.3063422 | H11: 0.10361962 | I11: 0.99131977 | J11: 1.140829
B12: 2004.I | C12: -7.5353686 | D12: 1.7474748 | E12: 5.1959151 | F12: 3.3364703 | G12: 0.012538892 | H12: 7.3770552 | I12: 3.3206069 | J12: 3.8780824
B13: 2004.II | C13: 6.4711046 | D13: 2.6347125 | E13: 5.8471146 | F13: 4.8513368 | G13: 1.0063273 | H13: 8.1718524 | I13: 4.4546935 | J13: 5.1076361
B14: 2004.III | C14: 2.8937624 | D14: 1.8293238 | E14: 5.8799128 | F14: 4.3583763 | G14: 2.0938149 | H14: 8.4099199 | I14: 4.7156371 | J14: 5.6060153
B15: 2004.IV | C15: 0.34786169 | D15: 2.6229801 | E15: 5.3776741 | F15: 4.2666638 | G15: 1.9951236 | H15: 8.2148896 | I15: 5.0095557 | J15: 5.7599646
B16: 2005.I | C16: 1.4416837 | D16: -0.21815403 | E16: 5.2457008 | F16: 3.2548363 | G16: 3.1765902 | H16: 4.2022637 | I16: 4.5343182 | J16: 4.1843253
B17: 2005.II | C17: 4.2197802 | D17: -0.44117777 | E17: 5.0202132 | F17: 3.1176 | G17: 2.7760311 | H17: 4.7396764 | I17: 4.3773116 | J17: 4.3330606
B18: 2005.III | C18: 6.8248919 | D18: -1.0094226 | E18: 5.1098726 | F18: 3.1263807 | G18: 1.2759247 | H18: 2.6200393 | I18: 4.0884281 | J18: 3.5644255
B19: 2005.IV | C19: 7.8263236 | D19: -0.56081674 | E19: 5.3932946 | F19: 3.5414751 | G19: 1.1200662 | H19: 1.9943905 | I19: 3.660634 | J19: 3.2021352
... B101: 2026.II | C101: -0.35628126 | D101: 10.90379 | E101: 2.8724961 | F101: 4.7998267 | G101: 3.594262 | H101: 1.5666516 | I101: 1.824831 | J101: 1.9121207
B102: Elaboração: Coordenação de Estudos Econômicos (CEE/IJSN)

Sheet Planilha4
B1: Tabela 4 - Variação (%) em relação ao mesmo trimestre do ano anterior
C2: Espírito Santo | G2: Brasil
C3: Agropecuária | D3: Indústria | E3: Serviços | F3: PIB | G3: Agropecuária | H3: Indústria | I3: Serviços | J3: PIB
B4: 2002.I
B5: 2002.II
B6: 2002.III
B7: 2002.IV
B8: 2003.I | C8: 13.16117 | D8: 16.991449 | E8: 0.11853997 | F8: 6.1616928 | G8: 15.371846 | H8: 0.069242304 | I8: 1.8306206 | J8: 2.6670284
B9: 2003.II | C9: -5.1733906 | D9: 7.5415732 | E9: -0.63360325 | F9: 1.6886751 | G9: 13.434888 | H9: -1.9913947 | I9: 0.88887342 | J9: 0.78124238
B10: 2003.III | C10: 1.8366113 | D10: 6.83392 | E10: 2.0300278 | F10: 3.627791 | G10: 1.4687258 | H10: 1.9062119 | I10: 0.47002098 | J10: 0.62618071
B11: 2003.IV | C11: -1.3542682 | D11: -3.2800913 | E11: 3.4346188 | F11: 0.57631884 | G11: 0.77621901 | H11: 0.32561996 | I11: 0.82503513 | J11: 0.58871195
B12: 2004.I | C12: -7.5353686 | D12: 1.7474748 | E12: 5.1959151 | F12: 3.3364703 | G12: 0.012538892 | H12: 7.3770552 | I12: 3.3206069 | J12: 3.8780824
B13: 2004.II | C13: 11.22074 | D13: 3.5278148 | E13: 6.494025 | F13: 6.3052877 | G13: 2.0046884 | H13: 8.9111542 | I13: 5.5714776 | J13: 6.3082566
B14: 2004.III | C14: -6.8124035 | D14: 0.28654798 | E14: 5.9441754 | F14: 3.3893825 | G14: 4.5536849 | H14: 8.8312349 | I14: 5.2170585 | J14: 6.5588065
B15: 2004.IV | C15: -11.376668 | D15: 5.037868 | E15: 3.9594003 | F15: 3.9962707 | G15: 1.541699 | H15: 7.672353 | I15: 5.849377 | J15: 6.2093693
B16: 2005.I | C16: 1.4416837 | D16: -0.21815403 | E16: 5.2457008 | F16: 3.2548363 | G16: 3.1765902 | H16: 4.2022637 | I16: 4.5343182 | J16: 4.1843253
B17: 2005.II | C17: 5.002973 | D17: -0.66181506 | E17: 4.7989413 | F17: 2.9895608 | G17: 2.3814879 | H17: 5.2325237 | I17: 4.2259969 | J17: 4.4749759
B18: 2005.III | C18: 14.900723 | D18: -2.1234206 | E18: 5.2853846 | F18: 3.1438845 | G18: -2.0021521 | H18: -1.1084177 | I18: 3.5373403 | J18: 2.1149767
B19: 2005.IV | C19: 13.180791 | D19: 0.76247769 | E19: 6.2084367 | F19: 4.7695458 | G19: 0.40010089 | H19: 0.24203434 | I19: 2.4513795 | J19: 2.1505552
... B101: 2026.II | C101: 0.51235512 | D101: 10.031851 | E101: 3.210275 | F101: 4.6752326 | G101: 6.7643315 | H101: 1.5017409 | I101: 1.5168303 | J101: 1.9835909
B102: Elaboração: Coordenação de Estudos Econômicos (CEE/IJSN)

Sheet Planilha5
B1: Tabela 5 - Variação (%) acumulada em quatro trimestres em relação a igual período anterior
C2: Espírito Santo | G2: Brasil
C3: Agropecuária | D3: Indústria | E3: Serviços | F3: PIB | G3: Agropecuária | H3: Indústria | I3: Serviços | J3: PIB
B4: 2002.I
B5: 2002.II
B6: 2002.III
B7: 2002.IV
B8: 2003.I
B9: 2003.II
B10: 2003.III
B11: 2003.IV | C11: -0.52086877 | D11: 6.5454962 | E11: 1.2528262 | F11: 2.9365994 | G11: 8.3063422 | H11: 0.10361962 | I11: 0.99131977 | J11: 1.140829
B12: 2004.I | C12: -3.360247 | D12: 3.0516135 | E12: 2.5047992 | F12: 2.2877856 | G12: 4.0260183 | H12: 1.7602789 | I12: 1.3571438 | J12: 1.444529
B13: 2004.II | C13: 4.0451806 | D13: 2.1326154 | E13: 4.2822242 | F13: 3.4632416 | G13: 1.0806154 | H13: 4.4492843 | I13: 2.5094092 | J13: 2.8150418
B14: 2004.III | C14: 2.1273698 | D14: 0.53348279 | E14: 5.2562556 | F14: 3.404578 | G14: 1.859785 | H14: 6.2773457 | I14: 3.7131371 | J14: 4.33141
B15: 2004.IV | C15: 0.34786169 | D15: 2.6229801 | E15: 5.3776741 | F15: 4.2666638 | G15: 1.9951236 | H15: 8.2148896 | I15: 5.0095557 | J15: 5.7599646
B16: 2005.I | C16: 1.7157242 | D16: 2.1252226 | E16: 5.3880034 | F16: 4.238918 | G16: 2.8981407 | H16: 7.4416766 | I16: 5.2968266 | J16: 5.8186425
B17: 2005.II | C17: -0.80835171 | D17: 1.0821165 | E17: 4.9746691 | F17: 3.4017552 | G17: 3.0016496 | H17: 6.5328961 | I17: 4.9592251 | J17: 5.355624
B18: 2005.III | C18: 3.6530724 | D18: 0.46610228 | E18: 4.8215299 | F18: 3.3397582 | G18: 1.3226291 | H18: 3.8781626 | I18: 4.5295402 | J18: 4.2122479
B19: 2005.IV | C19: 7.8263236 | D19: -0.56081674 | E19: 5.3932946 | F19: 3.5414751 | G19: 1.1200662 | H19: 1.9943905 | I19: 3.660634 | J19: 3.2021352
B20: 2006.I | C20: 8.2601323 | D20: 0.28801581 | E20: 5.5961098 | F20: 4.0578958 | G20: 0.37280831 | H20: 1.8074129 | I20: 3.6881815 | J20: 3.2349932
B21: 2006.II | C21: 7.3489521 | D21: 2.848059 | E21: 6.0638569 | F21: 5.4988478 | G21: -0.39118603 | H21: 0.061890962 | I21: 3.609773 | J21: 2.6907608
B22: 2006.III | C22: 4.2796197 | D22: 7.0285251 | E22: 6.5571643 | F22: 7.2564755 | G22: 2.8991832 | H22: 1.0116075 | I22: 3.819509 | J22: 3.2973501
... B101: 2026.II | C101: 1.584755 | D101: 10.343397 | E101: 2.7357972 | F101: 4.7686772 | G101: 6.1901245 | H101: 1.3671576 | I101: 1.7270866 | J101: 1.8728163
B102: Elaboração: Coordenação de Estudos Econômicos (CEE/IJSN)

Sheet Planilha6
B2: Tabela 6 - Taxas de Variação - Brasil e Espírito Santo (II Trimestre de 2026)
B3: Taxas (%) | C3: Brasil | D3: Espírito Santo
B4: Acumulado ao longo do ano / mesmo período do ano anterior | C4: =Planilha3!J101 -> 1.9121207 | D4: =Planilha1!CV6 -> 4.7998267
B5: Últimos quatro trimestres / quatro trimestres imediatamente anteriores | C5: =Planilha5!J101 -> 1.8728163 | D5: =Planilha1!CV7 -> 4.7686772
B6: Trimestre / mesmo trimestre do ano anterior | C6: =Planilha4!J101 -> 1.9835909 | D6: =Planilha1!CV8 -> 4.6752326
B7: Trimestre / trimestre imediatamente anterior (com ajuste para sazonalidade) | C7: =Planilha2!J101 -> 0.47884015 | D7: =Planilha1!CV9 -> 1.9097192
B8: Elaboração: Coordenação de Estudos Econômicos (CEE/IJSN)

Sheet Planilha7
B2: Tabela 7 - PIB Nominal Trimestral do Espírito Santo (R$ bilhões)
B3: Ano / trimestre | C3: PIB nominal ajustado ao benchmark anual | D3: Acumulado em quatro trimestres
B4: 2002.I | C4: 6.2186845
B5: 2002.II | C5: 6.8239902
B6: 2002.III | C6: 6.758649
B7: 2002.IV | C7: 7.2476729 | D7: 27.048997
B8: 2003.I | C8: 7.3092413 | D8: 28.139553
B9: 2003.II | C9: 7.8334094 | D9: 29.148973
B10: 2003.III | C10: 7.9804941 | D10: 30.370818
B11: 2003.IV | C11: 8.3959611 | D11: 31.519106
B12: 2004.I | C12: 8.8678159 | D12: 33.07768
B13: 2004.II | C13: 9.9576365 | D13: 35.201908
B14: 2004.III | C14: 10.191738 | D14: 37.413151
B15: 2004.IV | C15: 10.715448 | D15: 39.732638
B16: 2005.I | C16: 10.910439 | D16: 41.775261
B17: 2005.II | C17: 12.034838 | D17: 43.852462
B18: 2005.III | C18: 11.793974 | D18: 45.454698
... B101: 2026.II | C101: 72.059437 | D101: 259.1785
B102: Elaboração: Coordenação de Estudos Econômicos (CEE/IJSN)

Sheet Valores
B1: Gráfico 1 | F1: Gráfico 2 | K1: Gráfico 3 | P1: Gráfico 4 | U1: Gráfico 5 | Z1: Gráfico 6
B2: Variação % contra o trimestre anterior | F2: Variação % acumulada no ano | K2: Variação % contra o mesmo trimestre do ano anterior | P2: Variação % acumulada em quatro trimestres | U2: PIB nominal trimestral (R$ Bilhões) | Z2: PIB Trimestral Espírito Santo e Brasil
B3: com ajuste sazonal | F3: em relação ao mesmo período do ano anterior | P3: em relação a igual período anterior | U3: Espírito Santo | Z3: Série Dessazonalizada (Base: 2002=100)
B4: Ano | C4: Trimestre | D4: Variação (%) ES | F4: Ano | G4: Trimestre | H4: Espírito Santo | I4: Brasil | K4: Ano | L4: Trimestre | M4: Espírito Santo | N4: Brasil | P4: Ano | Q4: Trimestre | R4: Espírito Santo | S4: Brasil | U4: Ano | V4: Trimestre | W4: PIB nominal trimestral | X4: PIB acumulado em 4 trimestres | Z4: Ano | AA4: Trimestre | AB4: Espírito Santo | AC4: Brasil
B5: 2002 | C5: I | F5: 2002 | G5: I | K5: 2002 | L5: I | P5: 2002 | Q5: I | U5: 2002 | V5: I | W5: =Planilha7!C4 -> 6.2186845 | Z5: 2002 | AA5: I | AB5: 97.031234 | AC5: 98.885916
C6: II | D6: =Planilha2!F5 -> 2.1291651 | G6: II | L6: II | Q6: II | V6: II | W6: =Planilha7!C5 -> 6.8239902 | AA6: II | AB6: 99.097189 | AC6: 99.107333
C7: III | D7: =Planilha2!F6 -> 1.6578372 | G7: III | L7: III | Q7: III | V7: III | W7: =Planilha7!C6 -> 6.758649 | AA7: III | AB7: 100.74006 | AC7: 100.4909
C8: IV | D8: =Planilha2!F7 -> 2.4536472 | G8: IV | L8: IV | Q8: IV | V8: IV | W8: =Planilha7!C7 -> 7.2476729 | X8: 27.048997 | AA8: IV | AB8: 103.21187 | AC8: 101.51585
B9: 2003 | C9: I | D9: =Planilha2!F8 -> -0.157715 | F9: 2003 | G9: I | H9: =Planilha3!F8 -> 6.1616928 | I9: =Planilha3!J8 -> 2.6670284 | K9: 2003 | L9: I | M9: =Planilha4!F8 -> 6.1616928 | N9: =Planilha4!J8 -> 2.6670284 | P9: 2003 | Q9: I | U9: 2003 | V9: I | W9: =Planilha7!C8 -> 7.3092413 | X9: 28.139553 | Z9: 2003 | AA9: I | AB9: 103.04908 | AC9: 101.06708
C10: II | D10: =Planilha2!F9 -> -2.2100554 | G10: II | H10: =Planilha3!F9 -> 3.8312051 | I10: =Planilha3!J9 -> 1.7041719 | L10: II | M10: =Planilha4!F9 -> 1.6886751 | N10: =Planilha4!J9 -> 0.78124238 | Q10: II | V10: II | W10: =Planilha7!C9 -> 7.8334094 | X10: 29.148973 | AA10: II | AB10: 100.77164 | AC10: 100.21567
C11: III | D11: =Planilha2!F10 -> 3.5604341 | G11: III | H11: =Planilha3!F10 -> 3.7625262 | I11: =Planilha3!J10 -> 1.3313601 | L11: III | M11: =Planilha4!F10 -> 3.627791 | N11: =Planilha4!J10 -> 0.62618071 | Q11: III | V11: III | W11: =Planilha7!C10 -> 7.9804941 | X11: 30.370818 | AA11: III | AB11: 104.35955 | AC11: 101.15768
C12: IV | D12: =Planilha2!F11 -> -0.57216638 | G12: IV | H12: =Planilha3!F11 -> 2.9365994 | I12: =Planilha3!J11 -> 1.140829 | L12: IV | M12: =Planilha4!F11 -> 0.57631884 | N12: =Planilha4!J11 -> 0.58871195 | Q12: IV | R12: =Planilha5!F11 -> 2.9365994 | S12: =Planilha5!J11 -> 1.140829 | V12: IV | W12: =Planilha7!C11 -> 8.3959611 | X12: 31.519106 | AA12: IV | AB12: 103.76244 | AC12: 102.20965
B13: 2004 | C13: I | D13: =Planilha2!F12 -> 1.5252324 | F13: 2004 | G13: I | H13: =Planilha3!F12 -> 3.3364703 | I13: =Planilha3!J12 -> 3.8780824 | K13: 2004 | L13: I | M13: =Planilha4!F12 -> 3.3364703 | N13: =Planilha4!J12 -> 3.8780824 | P13: 2004 | Q13: I | R13: =Planilha5!F12 -> 2.2877856 | S13: =Planilha5!J12 -> 1.444529 | U13: 2004 | V13: I | W13: =Planilha7!C12 -> 8.8678159 | X13: 33.07768 | Z13: 2004 | AA13: I | AB13: 105.34506 | AC13: 103.62018
C14: II | D14: =Planilha2!F13 -> 1.672146 | G14: II | H14: =Planilha3!F13 -> 4.8513368 | I14: =Planilha3!J13 -> 5.1076361 | L14: II | M14: =Planilha4!F13 -> 6.3052877 | N14: =Planilha4!J13 -> 6.3082566 | Q14: II | R14: =Planilha5!F13 -> 3.4632416 | S14: =Planilha5!J13 -> 2.8150418 | V14: II | W14: =Planilha7!C13 -> 9.9576365 | X14: 35.201908 | AA14: II | AB14: 107.10658 | AC14: 106.48035
C15: III | D15: =Planilha2!F14 -> 0.64814403 | G15: III | H15: =Planilha3!F14 -> 4.3583763 | I15: =Planilha3!J14 -> 5.6060153 | L15: III | M15: =Planilha4!F14 -> 3.3893825 | N15: =Planilha4!J14 -> 6.5588065 | Q15: III | R15: =Planilha5!F14 -> 3.404578 | S15: =Planilha5!J14 -> 4.33141 | V15: III | W15: =Planilha7!C14 -> 10.191738 | X15: 37.413151 | AA15: III | AB15: 107.80079 | AC15: 107.83583
C16: IV | D16: =Planilha2!F15 -> 0.054861227 | G16: IV | H16: =Planilha3!F15 -> 4.2666638 | I16: =Planilha3!J15 -> 5.7599646 | L16: IV | M16: =Planilha4!F15 -> 3.9962707 | N16: =Planilha4!J15 -> 6.2093693 | Q16: IV | R16: =Planilha5!F15 -> 4.2666638 | S16: =Planilha5!J15 -> 5.7599646 | V16: IV | W16: =Planilha7!C15 -> 10.715448 | X16: 39.732638 | AA16: IV | AB16: 107.85993 | AC16: 108.65534
B17: 2005 | C17: I | D17: =Planilha2!F16 -> 2.2824467 | F17: 2005 | G17: I | H17: =Planilha3!F16 -> 3.2548363 | I17: =Planilha3!J16 -> 4.1843253 | K17: 2005 | L17: I | M17: =Planilha4!F16 -> 3.2548363 | N17: =Planilha4!J16 -> 4.1843253 | P17: 2005 | Q17: I | R17: =Planilha5!F16 -> 4.238918 | S17: =Planilha5!J16 -> 5.8186425 | U17: 2005 | V17: I | W17: =Planilha7!C16 -> 10.910439 | X17: 41.775261 | Z17: 2005 | AA17: I | AB17: 110.32177 | AC17: 109.61751
C18: II | D18: =Planilha2!F17 -> -0.082354873 | G18: II | H18: =Planilha3!F17 -> 3.1176 | I18: =Planilha3!J17 -> 4.3330606 | L18: II | M18: =Planilha4!F17 -> 2.9895608 | N18: =Planilha4!J17 -> 4.4749759 | Q18: II | R18: =Planilha5!F17 -> 3.4017552 | S18: =Planilha5!J17 -> 5.355624 | V18: II | W18: =Planilha7!C17 -> 12.034838 | X18: 43.852462 | AA18: II | AB18: 110.23092 | AC18: 110.76952
C19: III | D19: =Planilha2!F18 -> 0.77526268 | G19: III | H19: =Planilha3!F18 -> 3.1263807 | I19: =Planilha3!J18 -> 3.5644255 | L19: III | M19: =Planilha4!F18 -> 3.1438845 | N19: =Planilha4!J18 -> 2.1149767 | Q19: III | R19: =Planilha5!F18 -> 3.3397582 | S19: =Planilha5!J18 -> 4.2122479 | V19: III | W19: =Planilha7!C18 -> 11.793974 | X19: 45.454698 | AA19: III | AB19: 111.0855 | AC19: 110.14129
C20: IV | D20: =Planilha2!F19 -> 2.0315821 | G20: IV | H20: =Planilha3!F19 -> 3.5414751 | I20: =Planilha3!J19 -> 3.2021352 | L20: IV | M20: =Planilha4!F19 -> 4.7695458 | N20: =Planilha4!J19 -> 2.1505552 | Q20: IV | R20: =Planilha5!F19 -> 3.5414751 | S20: =Planilha5!J19 -> 3.2021352 | V20: IV | W20: =Planilha7!C19 -> 12.281338 | X20: 47.020588 | AA20: IV | AB20: 113.34229 | AC20: 111.53529
B21: 2006 | C21: I | D21: =Planilha2!F20 -> 2.350851 | F21: 2006 | G21: I | H21: =Planilha3!F20 -> 5.3621054 | I21: =Planilha3!J20 -> 4.2790967 | K21: 2006 | L21: I | M21: =Planilha4!F20 -> 5.3621054 | N21: =Planilha4!J20 -> 4.2790967 | P21: 2006 | Q21: I | R21: =Planilha5!F20 -> 4.0578958 | S21: =Planilha5!J20 -> 3.2349932 | U21: 2006 | V21: I | W21: =Planilha7!C20 -> 12.295937 | X21: 48.406086 | Z21: 2006 | AA21: I | AB21: 116.0068 | AC21: 113.34404
C22: II | D22: =Planilha2!F21 -> 3.1797162 | G22: II | H22: =Planilha3!F21 -> 7.0034532 | I22: =Planilha3!J21 -> 3.2563925 | L22: II | M22: =Planilha4!F21 -> 8.5387485 | N22: =Planilha4!J21 -> 2.2832974 | Q22: II | R22: =Planilha5!F21 -> 5.4988478 | S22: =Planilha5!J21 -> 2.6907608 | V22: II | W22: =Planilha7!C21 -> 13.621284 | X22: 49.992532 | AA22: II | AB22: 119.69549 | AC22: 113.6893
C23: III | D23: =Planilha2!F22 -> 2.4627946 | G23: III | H23: =Planilha3!F22 -> 8.0715875 | I23: =Planilha3!J22 -> 3.6788456 | L23: III | M23: =Planilha4!F22 -> 10.200325 | N23: =Planilha4!J22 -> 4.492788 | Q23: III | R23: =Planilha5!F22 -> 7.2564755 | S23: =Planilha5!J22 -> 3.2973501 | V23: III | W23: =Planilha7!C22 -> 13.51613 | X23: 51.714689 | AA23: III | AB23: 122.64334 | AC23: 115.5927
C24: IV | D24: =Planilha2!F23 -> 1.5369802 | G24: IV | H24: =Planilha3!F23 -> 8.5275605 | I24: =Planilha3!J23 -> 3.9619887 | L24: IV | M24: =Planilha4!F23 -> 9.8554143 | N24: =Planilha4!J23 -> 4.7952121 | Q24: IV | R24: =Planilha5!F23 -> 8.5275605 | S24: =Planilha5!J23 -> 3.9619887 | V24: IV | W24: =Planilha7!C23 -> 14.030518 | X24: 53.463868 | AA24: IV | AB24: 124.52834 | AC24: 116.94385
B25: 2007 | C25: I | D25: =Planilha2!F24 -> -0.38651928 | F25: 2007 | G25: I | H25: =Planilha3!F24 -> 6.9062243 | I25: =Planilha3!J24 -> 5.1946907 | K25: 2007 | L25: I | M25: =Planilha4!F24 -> 6.9062243 | N25: =Planilha4!J24 -> 5.1946907 | P25: 2007 | Q25: I | R25: =Planilha5!F24 -> 8.8722184 | S25: =Planilha5!J24 -> 4.1916189 | U25: 2007 | V25: I | W25: =Planilha7!C24 -> 13.719818 | X25: 54.88775 | Z25: 2007 | AA25: I | AB25: 124.04702 | AC25: 119.13954
C26: II | D26: =Planilha2!F25 -> 2.9822519 | G26: II | H26: =Planilha3!F25 -> 6.7475045 | I26: =Planilha3!J25 -> 5.8761763 | L26: II | M26: =Planilha4!F25 -> 6.6033853 | N26: =Planilha4!J25 -> 6.5372571 | Q26: II | R26: =Planilha5!F25 -> 8.3452302 | S26: =Planilha5!J25 -> 5.2590929 | V26: II | W26: =Planilha7!C25 -> 15.236303 | X26: 56.502768 | AA26: II | AB26: 127.74641 | AC26: 121.14019
C27: III | D27: =Planilha2!F26 -> 2.0345312 | G27: III | H27: =Planilha3!F26 -> 6.6434807 | I27: =Planilha3!J26 -> 5.8741362 | L27: III | M27: =Planilha4!F26 -> 6.4421805 | N27: =Planilha4!J26 -> 5.8702519 | Q27: III | R27: =Planilha5!F26 -> 7.4179653 | S27: =Planilha5!J26 -> 5.6078025 | V27: III | W27: =Planilha7!C26 -> 15.323468 | X27: 58.310106 | AA27: III | AB27: 130.34545 | AC27: 122.39722
C28: IV | D28: =Planilha2!F27 -> 3.3773023 | G28: IV | H28: =Planilha3!F27 -> 7.1185821 | I28: =Planilha3!J27 -> 6.0698706 | L28: IV | M28: =Planilha4!F27 -> 8.4796746 | N28: =Planilha4!J27 -> 6.639735 | Q28: IV | R28: =Planilha5!F27 -> 7.1185821 | S28: =Planilha5!J27 -> 6.0698706 | V28: IV | W28: =Planilha7!C27 -> 16.378806 | X28: 60.658395 | AA28: IV | AB28: 134.74761 | AC28: 124.24782
B29: 2008 | C29: I | D29: =Planilha2!F28 -> 2.3348476 | F29: 2008 | G29: I | H29: =Planilha3!F28 -> 12.255683 | I29: =Planilha3!J28 -> 6.1574045 | K29: 2008 | L29: I | M29: =Planilha4!F28 -> 12.255683 | N29: =Planilha4!J28 -> 6.1574045 | P29: 2008 | Q29: I | R29: =Planilha5!F28 -> 8.4242713 | S29: =Planilha5!J28 -> 6.2994369 | U29: 2008 | V29: I | W29: =Planilha7!C28 -> 16.795598 | X29: 63.734175 | Z29: 2008 | AA29: I | AB29: 137.89376 | AC29: 125.82242
C30: II | D30: =Planilha2!F29 -> 4.8583359 | G30: II | H30: =Planilha3!F29 -> 12.653898 | I30: =Planilha3!J29 -> 6.2486888 | L30: II | M30: =Planilha4!F29 -> 13.016508 | N30: =Planilha4!J29 -> 6.3361239 | Q30: II | R30: =Planilha5!F29 -> 10.08966 | S30: =Planilha5!J29 -> 6.2515794 | V30: II | W30: =Planilha7!C29 -> 19.049515 | X30: 67.547387 | AA30: II | AB30: 144.59311 | AC30: 128.35588
C31: III | D31: =Planilha2!F30 -> 1.214486 | G31: III | H31: =Planilha3!F30 -> 12.699657 | I31: =Planilha3!J30 -> 6.5007958 | L31: III | M31: =Planilha4!F30 -> 12.788461 | N31: =Planilha4!J30 -> 6.9808113 | Q31: III | R31: =Planilha5!F30 -> 11.659015 | S31: =Planilha5!J30 -> 6.5348292 | V31: III | W31: =Planilha7!C30 -> 19.007862 | X31: 71.231781 | AA31: III | AB31: 146.34917 | AC31: 130.46301
C32: IV | D32: =Planilha2!F31 -> -10.471303 | G32: IV | H32: =Planilha3!F31 -> 8.6232967 | I32: =Planilha3!J31 -> 5.0941954 | L32: IV | M32: =Planilha4!F31 -> -2.8571758 | N32: =Planilha4!J31 -> 1.0283975 | Q32: IV | R32: =Planilha5!F31 -> 8.6232967 | S32: =Planilha5!J31 -> 5.0941954 | V32: IV | W32: =Planilha7!C31 -> 17.238183 | X32: 72.091158 | AA32: IV | AB32: 131.0245 | AC32: 125.54078
B33: 2009 | C33: I | D33: =Planilha2!F32 -> -8.4923764 | F33: 2009 | G33: I | H33: =Planilha3!F32 -> -14.035444 | I33: =Planilha3!J32 -> -2.4260544 | K33: 2009 | L33: I | M33: =Planilha4!F32 -> -14.035444 | N33: =Planilha4!J32 -> -2.4260544 | P33: 2009 | Q33: I | R33: =Planilha5!F32 -> 2.0628203 | S33: =Planilha5!J32 -> 2.9694427 | U33: 2009 | V33: I | W33: =Planilha7!C32 -> 15.275794 | X33: 70.571354 | Z33: 2009 | AA33: I | AB33: 119.89741 | AC33: 123.73499
C34: II | D34: =Planilha2!F33 -> 5.3456908 | G34: II | H34: =Planilha3!F33 -> -13.313361 | I34: =Planilha3!J33 -> -2.312024 | L34: II | M34: =Planilha4!F33 -> -12.660267 | N34: =Planilha4!J33 -> -2.2029853 | Q34: II | R34: =Planilha5!F33 -> -4.5625157 | S34: =Planilha5!J33 -> 0.8284737 | V34: II | W34: =Planilha7!C33 -> 17.214046 | X34: 68.735885 | AA34: II | AB34: 126.30675 | AC34: 126.0181
C35: III | D35: =Planilha2!F34 -> 7.4244765 | G35: III | H35: =Planilha3!F34 -> -11.234057 | I35: =Planilha3!J34 -> -1.9144521 | L35: III | M35: =Planilha4!F34 -> -7.2035965 | N35: =Planilha4!J34 -> -1.1626502 | Q35: III | R35: =Planilha5!F34 -> -9.2271478 | S35: =Planilha5!J34 -> -1.1928861 | V35: III | W35: =Planilha7!C34 -> 17.953194 | X35: 67.681217 | AA35: III | AB35: 135.68437 | AC35: 128.96554
C36: IV | D36: =Planilha2!F35 -> 3.6385758 | G36: IV | H36: =Planilha3!F35 -> -6.9248585 | I36: =Planilha3!J35 -> -0.125812 | L36: IV | M36: =Planilha4!F35 -> 7.1549117 | N36: =Planilha4!J35 -> 5.3243249 | Q36: IV | R36: =Planilha5!F35 -> -6.9248585 | S36: =Planilha5!J35 -> -0.125812 | V36: IV | W36: =Planilha7!C35 -> 18.772327 | X36: 69.215361 | AA36: IV | AB36: 140.62135 | AC36: 132.29044
B37: 2010 | C37: I | D37: =Planilha2!F36 -> 4.6566477 | F37: 2010 | G37: I | H37: =Planilha3!F36 -> 22.793438 | I37: =Planilha3!J36 -> 9.2090928 | K37: 2010 | L37: I | M37: =Planilha4!F36 -> 22.793438 | N37: =Planilha4!J36 -> 9.2090928 | P37: 2010 | Q37: I | R37: =Planilha5!F36 -> 1.1818788 | S37: =Planilha5!J36 -> 2.6367021 | U37: 2010 | V37: I | W37: =Planilha7!C36 -> 19.383666 | X37: 73.323233 | Z37: 2010 | AA37: I | AB37: 147.16959 | AC37: 135.01446
C38: II | D38: =Planilha2!F37 -> 0.90015533 | G38: II | H38: =Planilha3!F37 -> 20.067528 | I38: =Planilha3!J37 -> 8.8552855 | L38: II | M38: =Planilha4!F37 -> 17.640871 | N38: =Planilha4!J37 -> 8.5177381 | Q38: II | R38: =Planilha5!F37 -> 9.2050378 | S38: =Planilha5!J37 -> 5.3337139 | V38: II | W38: =Planilha7!C37 -> 21.441735 | X38: 77.550923 | AA38: II | AB38: 148.49434 | AC38: 136.74355
C39: III | D39: =Planilha2!F38 -> 3.4737074 | G39: III | H39: =Planilha3!F38 -> 17.660602 | I39: =Planilha3!J38 -> 8.1762579 | L39: III | M39: =Planilha4!F38 -> 13.302269 | N39: =Planilha4!J38 -> 6.9071595 | Q39: III | R39: =Planilha5!F38 -> 14.967054 | S39: =Planilha5!J38 -> 7.4612636 | V39: III | W39: =Planilha7!C38 -> 21.902409 | X39: 81.500137 | AA39: III | AB39: 153.6526 | AC39: 137.94449
C40: IV | D40: =Planilha2!F39 -> -0.48294429 | G40: IV | H40: =Planilha3!F39 -> 15.229842 | I40: =Planilha3!J39 -> 7.5282258 | L40: IV | M40: =Planilha4!F39 -> 8.6506072 | N40: =Planilha4!J39 -> 5.6893294 | Q40: IV | R40: =Planilha5!F39 -> 15.229842 | S40: =Planilha5!J39 -> 7.5282258 | V40: IV | W40: =Planilha7!C39 -> 22.582474 | X40: 85.310285 | AA40: IV | AB40: 152.91055 | AC40: 139.91767
...

Sheet Planilha8
B2: Gráfico 1 - Variação (%) em relação ao trimestre anterior com ajuste sazonal

Sheet Planilha9
B2: Gráfico 2 - Variação (%) setorial em relação ao trimestre imediatamente anterior (com ajuste sazonal) - 2026.II

Sheet Planilha10
B2: Gráfico 3 - Variação (%) acumulada no ano em relação ao mesmo período do ano anterior

Sheet Planilha11
B2: Gráfico 4 - Variação (%) setorial acumulada no ano em relação ao mesmo período do ano anterior - 2026.II

Sheet Planilha12
B2: Gráfico 5 - Variação (%) em relação ao mesmo trimestre do ano anterior

Sheet Planilha13
B2: Gráfico 6 - Variação (%) setorial em relação ao mesmo trimestre do ano anterior - 2026.II

Sheet Planilha14
B2: Gráfico 7 - Variação (%) acumulada em quatro trimestres em relação a igual período anterior

Sheet Planilha15
B2: Gráfico 8 - Variação (%) setorial acumulada em quatro trimestres em relação a igual período anterior - 2026.II

Sheet Planilha16
B2: Gráfico 9 - PIB nominal trimestral do Espírito Santo (R$ Bilhões)

Sheet Planilha17
B2: Gráfico 10 - PIB Trimestral do Espírito Santo – Série dessazonalizada (Base 2002=100)

Sheet Planilha18
B2: Dicionário de dados
B3: Variável | C3: Unidade de medida | D3: Dimensão | E3: Polaridade | F3: Fonte | G3: Periodicidade | H3: Observações
B4: PIB nominal | C4: em R$ bilhões acumulado no trimestre em R$ bilhões acumulados em quatro trimestres | D4: Territorial (Espírito Santo) | E4: Quanto maior, melhor | F4: IJSN/IBGE | G4: Trimestral | H4: O Produto Interno Bruto (PIB) pela ótica da produção equivale ao total dos bens e serviços finais produzidos pelas unidades produtoras residentes, sendo, portanto, equivalente à soma dos valores adicionados brutos das diversas atividades econômicas acrescida dos impostos, líquidos de subsídios, sobre os produtos.
B5: PIB (variação em volume) | C5: Variação (%) em relação ao trimestre imediatamente anterior (com ajuste sazonal) Variação (%) em relação ao mesmo trimestre do ano anterior Variação (%) acumulada ao longo do ano em relação a igual período do ano anterior Variação (%) acumulada em quatro trimestres em relação a igual período anterior | D5: Territorial (Brasil e Espírito Santo) | E5: Quanto maior, melhor | F5: IJSN/IBGE | G5: Trimestral | H5: Quando o PIB é mensurado a preços do ano anterior (ou a preços constantes), obtém-se a medida de volume (PIB real), livre dos efeitos da inflação.
B6: Valor Adicionado Bruto (variação em volume) | C6: Variação (%) em relação ao trimestre imediatamente anterior (com ajuste sazonal) Variação (%) em relação ao mesmo trimestre do ano anterior Variação (%) acumulada ao longo do ano em relação a igual período do ano anterior Variação (%) acumulada em quatro trimestres em relação a igual período anterior | D6: Territorial (Brasil e Espírito Santo) Setorial (Agropecuária, Indústria e Serviços) | E6: Quanto maior, melhor | F6: IJSN/IBGE | G6: Trimestral | H6: Valor Adicionado Bruto (VAB) é o valor que a atividade agrega aos bens e serviços consumidos no seu processo produtivo. É a contribuição ao produto interno bruto pelas diversas atividades econômicas, obtida pela diferença entre o valor bruto da produção e o consumo intermediário absorvido por essas atividades. Quando mensurado a preços do ano anterior (ou a preços constantes), obtém-se a medida de volume (VAB real), livre dos efeitos da inflação.

Sheet Planilha24
B2: Tabela 2 - PIB Nominal Anual do Espírito Santo (R$ bilhões)
B3: Ano | C3: Valor R$ Bilhões
B4: 2002* | C4: 27.048997
B5: 2003* | C5: 31.519106
B6: 2004* | C6: 39.732638
B7: 2005* | C7: 47.020588
B8: 2006* | C8: 53.463868
B9: 2007* | C9: 60.658395
B10: 2008* | C10: 72.091158
B11: 2009* | C11: 69.215361
B12: 2010* | C12: 85.310285
B13: 2011* | C13: 105.97622
B14: 2012* | C14: 116.85058
B15: 2013* | C15: 117.27435
... B26: 2024** | C26: 206.23414
B27: * Contas Regionais IBGE/IJSN
B28: ** Indicador do PIB Trimestral
B29: *** Indicador do PIB Trimestral acumulado nos últimos quatro trimestres
B30: Elaboração: Coordenação de Estudos Econômicos (CEE/IJSN)

Sheet Planilha25
B2: Tabela 3 - Indicador do PIB Trimestral do Estado do Espírito Santo
C3: Série encadeada (antes do benchmark) | D3: Série encadeada e ajustada ao benchmark anual | E3: Variação em relação ao mesmo trimestre do ano anterior ( % ) | F3: Taxa acumulada em quatro trimestres (em relação ao mesmo período do ano anterior) ( % ) | G3: Série encadeada do Índice Trimestral com ajuste sazonal | H3: Trimestre contra trimestre imediatamente anterior com ajuste sazonal (%)
B4: 2002.I | C4: 94.058082 | D4: 94.010364 | G4: 97.560854
B5: 2002.II | C5: 102.3036 | D5: 102.25761 | G5: 98.836366 | H5: 1.3074017
B6: 2002.III | C6: 100.07721 | D6: 100.04428 | G6: 100.48029 | H6: 1.6632779
B7: 2002.IV | C7: 103.70301 | D7: 103.68776 | G7: 103.2896 | H7: 2.7958854
B8: 2003.I | C8: 99.793168 | D8: 99.802994 | E8: 6.1616928 | G8: 103.04454 | H8: -0.23725423
B9: 2003.II | C9: 103.91983 | D9: 103.9844 | E9: 1.6886751 | G9: 101.02738 | H9: -1.957566
B10: 2003.III | C10: 103.52532 | D10: 103.67367 | E10: 3.627791 | G10: 104.10364 | H10: 3.0449753
B11: 2003.IV | C11: 104.0219 | D11: 104.28533 | E11: 0.57631884 | F11: 2.9365994 | G11: 103.86999 | H11: -0.22444265
B12: 2004.I | C12: 102.7301 | D12: 103.13289 | E12: 3.3364703 | F12: 2.2877856 | G12: 105.45556 | H12: 1.5265039
B13: 2004.II | C13: 110.15705 | D13: 110.54092 | E13: 6.3052877 | F13: 3.4632416 | G13: 107.29612 | H13: 1.7453343
B14: 2004.III | C14: 107.07063 | D14: 107.18757 | E14: 3.3893825 | F14: 3.404578 | G14: 107.54226 | H14: 0.22940779
B15: 2004.IV | C15: 108.80123 | D15: 108.45285 | E15: 3.9962707 | F15: 4.2666638 | G15: 108.03271 | H15: 0.45604907
B16: 2005.I | C16: 107.50329 | D16: 106.4897 | E16: 3.2548363 | F16: 4.238918 | G16: 111.00157 | H16: 2.7481095
B17: 2005.II | C17: 115.3196 | D17: 113.84561 | E17: 2.9895608 | F17: 3.4017552 | G17: 109.75275 | H17: -1.1250395
B18: 2005.III | C18: 112.0196 | D18: 110.55742 | E18: 3.1438845 | F18: 3.3397582 | G18: 110.70426 | H18: 0.86695361
B19: 2005.IV | C19: 114.81155 | D19: 113.62556 | E19: 4.7695458 | F19: 3.5414751 | G19: 113.22041 | H19: 2.2728588
B20: 2006.I | C20: 112.71131 | D20: 112.19979 | E20: 5.3621054 | F20: 4.0578958 | G20: 116.72948 | H20: 3.0993226
B21: 2006.II | C21: 123.59543 | D21: 123.5666 | E21: 8.5387485 | F21: 5.4988478 | G21: 119.66503 | H21: 2.5148315
B22: 2006.III | C22: 121.53786 | D22: 121.83464 | E22: 10.200325 | F22: 7.2564755 | G22: 121.62548 | H22: 1.6382844
... B95: 2024.IV | C95: 164.29811 | D95: 160.88598 | E95: 1.4145045 | F95: 2.6085851 | G95: 163.45358 | H95: -0.8935924
B96: Elaboração: Coordenação de Estudos Econômicos (CEE/IJSN)
